BEGIN:VCALENDAR
VERSION:2.0
PRODID:-//Disaster Relief Australia - ECPv6.10.1.1//NONSGML v1.0//EN
CALSCALE:GREGORIAN
METHOD:PUBLISH
X-ORIGINAL-URL:https://disasterreliefaus.org
X-WR-CALDESC:Events for Disaster Relief Australia
REFRESH-INTERVAL;VALUE=DURATION:PT1H
X-Robots-Tag:noindex
X-PUBLISHED-TTL:PT1H
BEGIN:VTIMEZONE
TZID:Australia/Adelaide
BEGIN:STANDARD
TZOFFSETFROM:+1030
TZOFFSETTO:+0930
TZNAME:ACST
DTSTART:20230401T163000
END:STANDARD
BEGIN:DAYLIGHT
TZOFFSETFROM:+0930
TZOFFSETTO:+1030
TZNAME:ACDT
DTSTART:20230930T163000
END:DAYLIGHT
END:VTIMEZONE
BEGIN:VEVENT
DTSTART;VALUE=DATE:20231216
DTEND;VALUE=DATE:20231218
DTSTAMP:20260421T074340
CREATED:20231115T233127Z
LAST-MODIFIED:20240619T232042Z
UID:10000016-1702684800-1702857599@disasterreliefaus.org
SUMMARY:Trim & Cut Chainsaw Course (DRT TAS)
DESCRIPTION:DRT TAS – TCA – Maintain Chainsaws & Trim and Cut Felled Trees – 16th-17th Dec 2023\n\n\n\n\nTRAINING EVENT: FWPCOT2254 Maintain chainsaws & FWPCOT2273 Trim and cut felled trees\nCOURSE PROVIDER: Emergency Australia\nLOCATION: Both days: Claude Road Hall\, 787 Claude Rd\, Claude Road TAS 7306\nDATE: Sat 16th – Sun 17th December 2023 (Must attend both days)\nTIMINGS: 0800-1600 on both days
URL:https://disasterreliefaus.org/event/trim-cut-chainsaw-course-drt-tas/
LOCATION:DRRT TAS
CATEGORIES:Training Events,Training TAS
ATTACH;FMTTYPE=image/jpeg:https://disasterreliefaus.org/wp-content/uploads/2023/11/51248715935_2137725668_o.jpg
END:VEVENT
END:VCALENDAR