BEGIN:VCALENDAR
VERSION:2.0
PRODID:-//Disaster Relief Australia - ECPv6.10.1.1//NONSGML v1.0//EN
CALSCALE:GREGORIAN
METHOD:PUBLISH
X-ORIGINAL-URL:https://disasterreliefaus.org
X-WR-CALDESC:Events for Disaster Relief Australia
REFRESH-INTERVAL;VALUE=DURATION:PT1H
X-Robots-Tag:noindex
X-PUBLISHED-TTL:PT1H
BEGIN:VTIMEZONE
TZID:Australia/Adelaide
BEGIN:STANDARD
TZOFFSETFROM:+1030
TZOFFSETTO:+0930
TZNAME:ACST
DTSTART:20230401T163000
END:STANDARD
BEGIN:DAYLIGHT
TZOFFSETFROM:+0930
TZOFFSETTO:+1030
TZNAME:ACDT
DTSTART:20230930T163000
END:DAYLIGHT
END:VTIMEZONE
BEGIN:VEVENT
DTSTART;VALUE=DATE:20231218
DTEND;VALUE=DATE:20231219
DTSTAMP:20260421T074350
CREATED:20231218T072258Z
LAST-MODIFIED:20231218T072413Z
UID:10000070-1702857600-1702943999@disasterreliefaus.org
SUMMARY:DRT WA
DESCRIPTION:
URL:https://disasterreliefaus.org/event/a/
LOCATION:DRRT WA
CATEGORIES:Training Events,Training WA
END:VEVENT
END:VCALENDAR