BEGIN:VCALENDAR
VERSION:2.0
PRODID:-//Disaster Relief Australia - ECPv6.10.1.1//NONSGML v1.0//EN
CALSCALE:GREGORIAN
METHOD:PUBLISH
X-ORIGINAL-URL:https://disasterreliefaus.org
X-WR-CALDESC:Events for Disaster Relief Australia
REFRESH-INTERVAL;VALUE=DURATION:PT1H
X-Robots-Tag:noindex
X-PUBLISHED-TTL:PT1H
BEGIN:VTIMEZONE
TZID:Australia/Adelaide
BEGIN:STANDARD
TZOFFSETFROM:+1030
TZOFFSETTO:+0930
TZNAME:ACST
DTSTART:20240406T163000
END:STANDARD
BEGIN:DAYLIGHT
TZOFFSETFROM:+0930
TZOFFSETTO:+1030
TZNAME:ACDT
DTSTART:20241005T163000
END:DAYLIGHT
END:VTIMEZONE
BEGIN:VEVENT
DTSTART;VALUE=DATE:20241026
DTEND;VALUE=DATE:20241028
DTSTAMP:20260420T081007
CREATED:20240619T041952Z
LAST-MODIFIED:20240620T012636Z
UID:10000087-1729900800-1730073599@disasterreliefaus.org
SUMMARY:Trim & Cut Fell Trees\, Maintain Chainsaws and Pole saw (DRT ACT)
DESCRIPTION:DRT ACT – Trim & Cut Fell trees\, Maintain Chainsaws and Pole saw – Saturday 26th – Sunday 27th October 2024\n\n\n\nTRAINING EVENT: FWPCOT2254 Maintain chainsaws & FWPCOT2273 Trim and cut felled trees FWPCOT3301 Trim trees using a pole saw\nCOURSE PROVIDER: Emergency Australia\nLOCATION: TBC\nDATE: Saturday 26th – Sunday 27th October 2024\nTIMINGS: First Aid: 0900 – 1600\nONLINE PRE-COURSE REQUIREMENT: = Approx. 9 Hours\nMUSTER STATUS REQUIRED: Engagement Ready or Deployment Ready
URL:https://disasterreliefaus.org/event/trim-cut-fell-trees-maintain-chainsaws-and-pole-saw-drt-act-3/
LOCATION:DRRT ACT
CATEGORIES:Training ACT,Training Events
ATTACH;FMTTYPE=image/jpeg:https://disasterreliefaus.org/wp-content/uploads/2023/11/51248715935_2137725668_o.jpg
END:VEVENT
BEGIN:VEVENT
DTSTART;VALUE=DATE:20241026
DTEND;VALUE=DATE:20241027
DTSTAMP:20260420T081007
CREATED:20231213T114919Z
LAST-MODIFIED:20241024T004318Z
UID:10000033-1729900800-1729987199@disasterreliefaus.org
SUMMARY:First Aid & CPR (DRT NSW NTH)
DESCRIPTION:DRT NSW NTH- Provide First Aid & CPR – Saturday 26th October 2024\n\n\n\nTRAINING EVENT: HLTAID011 – Provide First Aid and HLTAID009 – Provide cardiopulmonary resuscitation\nCOURSE PROVIDER: Emergency Australia\nLOCATION: Iluka Scout Hall\nDATE: Saturday\, 26th October 2024\nTIMINGS: First Aid: 0900 – 1400 – CPR Only: 0900 – 1030 (Couple hours only)\nONLINE PRE-COURSE REQUIREMENT: = First Aid = 4 hours Approx. – CPR = 1.5 hours Approx.\nMUSTER STATUS REQUIRED: Engagement Ready or Deployment Ready
URL:https://disasterreliefaus.org/event/first-aid-cpr-drt-nsw-nth/
LOCATION:DRRT NSW NTH
CATEGORIES:Training Events,Training NSW NTH
ATTACH;FMTTYPE=image/jpeg:https://disasterreliefaus.org/wp-content/uploads/2023/11/First-Aid-CPR-scaled.jpg
END:VEVENT
BEGIN:VEVENT
DTSTART;VALUE=DATE:20241026
DTEND;VALUE=DATE:20241027
DTSTAMP:20260420T081007
CREATED:20240620T011620Z
LAST-MODIFIED:20240919T004354Z
UID:10000219-1729900800-1729987199@disasterreliefaus.org
SUMMARY:Advanced First Aid (DRT TAS)
DESCRIPTION:DRT TAS – Advanced First Aid – Saturday 31st August 2024\n\n\n\n\n\nTRAINING EVENT: HLTAID014 – Provide Advanced First Aid\nCOURSE PROVIDER: Emergency Australia\nLOCATION: Launceston RSL\nDATE: Saturday 26th October 2024\nTIMINGS: First Aid: 0900 – 1600\nONLINE PRE-COURSE REQUIREMENT: = Approx. 7 Hours\nMUSTER STATUS REQUIRED: Engagement Ready or Deployment Ready
URL:https://disasterreliefaus.org/event/advanced-first-aid-drt-tas/
LOCATION:DRRT TAS
CATEGORIES:Training Events,Training TAS
ATTACH;FMTTYPE=image/jpeg:https://disasterreliefaus.org/wp-content/uploads/2024/05/First-Aid-CPR-228x300-1.jpg
END:VEVENT
BEGIN:VEVENT
DTSTART;VALUE=DATE:20241026
DTEND;VALUE=DATE:20241028
DTSTAMP:20260420T081007
CREATED:20240529T013619Z
LAST-MODIFIED:20240529T013619Z
UID:10000146-1729900800-1730073599@disasterreliefaus.org
SUMMARY:Operational Skills Training: (DRT QLD STH)
DESCRIPTION:Operational Skills Training:\n\n \n\n\nTRAINING EVENT: Operational Skills Training\nCOURSE PROVIDER: Internal Disaster Relief Team\nLOCATION: TBC\nDATE:  Saturday-Sunday\, 26th-27th October 2024\nTIMINGS: 0900 – 1600 Both Days\nMUSTER STATUS REQUIRED: Engagement Ready or Deployment Ready
URL:https://disasterreliefaus.org/event/operational-skills-training-drt-qld-sth-2/
LOCATION:DRRT QLD STH
CATEGORIES:Training Events,Training QLD STH
END:VEVENT
BEGIN:VEVENT
DTSTART;VALUE=DATE:20241026
DTEND;VALUE=DATE:20241028
DTSTAMP:20260420T081007
CREATED:20240530T002118Z
LAST-MODIFIED:20240530T002118Z
UID:10000183-1729900800-1730073599@disasterreliefaus.org
SUMMARY:Remote First Aid (DRT QLD NTH)
DESCRIPTION:Remote First Aid:\nProvide First Aid in remote or isolated site – HLTAID013\n\n \n\n\nCOURSE PROVIDER: Emergency Australia\nLOCATION: Cairns (TBC)\nDATE: Saturday 26th – Sunday 27th October 2024\nTIMINGS: First Aid: 0900 – 1600\nONLINE PRE-COURSE REQUIREMENT: = Approx. 6 Hours\nMUSTER STATUS REQUIRED: Engagement Ready or Deployment Ready
URL:https://disasterreliefaus.org/event/remote-first-aid-drt-qld-nth/
LOCATION:DRRT QLD NTH
CATEGORIES:Training Events,Training QLD NTH
END:VEVENT
END:VCALENDAR