BEGIN:VCALENDAR
VERSION:2.0
PRODID:-//Disaster Relief Australia - ECPv6.10.1.1//NONSGML v1.0//EN
CALSCALE:GREGORIAN
METHOD:PUBLISH
X-ORIGINAL-URL:https://disasterreliefaus.org
X-WR-CALDESC:Events for Disaster Relief Australia
REFRESH-INTERVAL;VALUE=DURATION:PT1H
X-Robots-Tag:noindex
X-PUBLISHED-TTL:PT1H
BEGIN:VTIMEZONE
TZID:Australia/Adelaide
BEGIN:STANDARD
TZOFFSETFROM:+1030
TZOFFSETTO:+0930
TZNAME:ACST
DTSTART:20250405T163000
END:STANDARD
BEGIN:DAYLIGHT
TZOFFSETFROM:+0930
TZOFFSETTO:+1030
TZNAME:ACDT
DTSTART:20251004T163000
END:DAYLIGHT
END:VTIMEZONE
BEGIN:VEVENT
DTSTART;VALUE=DATE:20250215
DTEND;VALUE=DATE:20250216
DTSTAMP:20260420T011113
CREATED:20240730T001519Z
LAST-MODIFIED:20250116T024944Z
UID:10000243-1739577600-1739663999@disasterreliefaus.org
SUMMARY:Advanced First Aid (DRRT NSW NTH)
DESCRIPTION:DRRT NSW NTH – ADVANCED FIRST AID Saturday\, 15th February 2025\n\n\n\n\nTRAINING EVENT: HLTAID014 – Provide Advanced First Aid\nCOURSE PROVIDER: Emergency Australia\nLOCATION: Taree Region\nDATE: Saturday\, 15th February 2025\nTIMINGS: Adv First Aid: 0800 – 1600\nONLINE PRE-COURSE REQUIREMENT: = Approx. 7 Hours\nMUSTER STATUS REQUIRED: Engagement Ready or Deployment Ready
URL:https://disasterreliefaus.org/event/advanced-first-aid-drt-nsw-nth-3/
LOCATION:DRRT NSW NTH
CATEGORIES:Training NSW NTH
ATTACH;FMTTYPE=image/jpeg:https://disasterreliefaus.org/wp-content/uploads/2023/11/First-Aid.jpg
END:VEVENT
BEGIN:VEVENT
DTSTART;VALUE=DATE:20250215
DTEND;VALUE=DATE:20250217
DTSTAMP:20260420T011113
CREATED:20240528T223937Z
LAST-MODIFIED:20250116T020102Z
UID:10000111-1739577600-1739750399@disasterreliefaus.org
SUMMARY:4WD Course DRRT VIC
DESCRIPTION:DRRT VIC – 4WD Certification Training – Saturday 15th – Sunday 16th February 2025 \nTRAINING EVENT: FWPCOT3325 Operate four wheel drive vehicle on unsealed roads + FWPCOT3326 Recover four wheel drive vehicle\nCOURSE PROVIDER: Emergency Australia\nLOCATION: Lerderderg 4WD Training Park\, Seereys Track\, Lerderderg VIC 3458\nDATE: Saturday 15th – Sunday 16th February 2025\nTIMINGS: 0800 – 1600 (Both days)\nONLINE PRE-COURSE REQUIREMENT: = 4 hours Approx.\nMUSTER STATUS REQUIRED: Engagement Ready or Deployment Ready
URL:https://disasterreliefaus.org/event/4wd-course-vic-2/
LOCATION:VEMI-153 waterfalls road Mount Macedon Victoria
CATEGORIES:Training Events,Training VIC
ATTACH;FMTTYPE=image/jpeg:https://disasterreliefaus.org/wp-content/uploads/2023/12/4WD-scaled.jpg
END:VEVENT
BEGIN:VEVENT
DTSTART;TZID=Australia/Adelaide:20250215T090000
DTEND;TZID=Australia/Adelaide:20250216T160000
DTSTAMP:20260420T011113
CREATED:20240528T004402Z
LAST-MODIFIED:20241024T011852Z
UID:10000118-1739610000-1739721600@disasterreliefaus.org
SUMMARY:Remote First Aid (DRT WA)
DESCRIPTION:Remote First Aid:\nProvide First Aid in remote or isolated site – HLTAID013\nCOURSE PROVIDER: Emergency AustraliaLOCATION: Geraldton (TBC)DATE: Saturday 15th February – Sunday 16th February 2025 TIMINGS: First Aid: 0800 – 1600ONLINE PRE-COURSE REQUIREMENT: = Approx. 6 HoursMUSTER STATUS REQUIRED: Engagement Ready or Deployment Ready
URL:https://disasterreliefaus.org/event/remote-first-aid-drt-wa-2/
LOCATION:DRRT WA
CATEGORIES:Training Events,Training WA
END:VEVENT
END:VCALENDAR