BEGIN:VCALENDAR
VERSION:2.0
PRODID:-//Disaster Relief Australia - ECPv6.10.1.1//NONSGML v1.0//EN
CALSCALE:GREGORIAN
METHOD:PUBLISH
X-ORIGINAL-URL:https://disasterreliefaus.org
X-WR-CALDESC:Events for Disaster Relief Australia
REFRESH-INTERVAL;VALUE=DURATION:PT1H
X-Robots-Tag:noindex
X-PUBLISHED-TTL:PT1H
BEGIN:VTIMEZONE
TZID:Australia/Adelaide
BEGIN:STANDARD
TZOFFSETFROM:+1030
TZOFFSETTO:+0930
TZNAME:ACST
DTSTART:20260404T163000
END:STANDARD
BEGIN:DAYLIGHT
TZOFFSETFROM:+0930
TZOFFSETTO:+1030
TZNAME:ACDT
DTSTART:20261003T163000
END:DAYLIGHT
END:VTIMEZONE
BEGIN:VEVENT
DTSTART;VALUE=DATE:20260321
DTEND;VALUE=DATE:20260323
DTSTAMP:20260421T212956
CREATED:20251118T230632Z
LAST-MODIFIED:20251205T033911Z
UID:10000358-1774051200-1774223999@disasterreliefaus.org
SUMMARY:Remote First Aid (DRRT WA)
DESCRIPTION:Remote First Aid:\nProvide First Aid in remote or isolated site – HLTAID013\n\n \n\n\nCOURSE PROVIDER: Emergency Australia\nLOCATION: Fortem Wellbeing Hub – 484 Albany Hwy Vic Park WA\nDATE: Saturday 21st to Sunday 22nd March 2026\nTIMINGS: 0800 – 1600 both days\nONLINE PRE-COURSE REQUIREMENT: Approx. 6 Hours\nPREREQUISITES:  Must be Engagement Ready or Deployment Ready in Muster\,  have a Tetanus vaccine up to date\, and a valid First Aid and CPR Certificate.\nWHY THIS TRAINING MATTERS:\nThis course builds on standard first aid with skills for remote environments\, including trauma care\, evacuation\, and advanced CPR\, preparing members to respond effectively during emergencies at home or on operation.
URL:https://disasterreliefaus.org/event/remote-first-aid-drrt-wa/
LOCATION:DRRT WA
CATEGORIES:Training Event WA,Training Events,Training WA
END:VEVENT
BEGIN:VEVENT
DTSTART;VALUE=DATE:20260321
DTEND;VALUE=DATE:20260323
DTSTAMP:20260421T212956
CREATED:20251118T231626Z
LAST-MODIFIED:20251126T052149Z
UID:10000359-1774051200-1774223999@disasterreliefaus.org
SUMMARY:Remote First Aid (DRRT NSW STH)
DESCRIPTION:Remote First Aid:\nProvide First Aid in remote or isolated site – HLTAID013\n\n \n\n\nCOURSE PROVIDER: Emergency Australia\nLOCATION: TBC\nDATE: Saturday 21st to Sunday 22nd March 2026\nTIMINGS: 0800 – 1600 both days\nONLINE PRE-COURSE REQUIREMENT: Approx. 6 Hours\nPREREQUISITES:  Must be Engagement Ready or Deployment Ready in Muster\,  have a Tetanus vaccine up to date\, and a valid First Aid and CPR Certificate.\nWHY THIS TRAINING MATTERS:\nThis course builds on standard first aid with skills for remote environments\, including trauma care\, evacuation\, and advanced CPR\, preparing members to respond effectively during emergencies at home or on operation.
URL:https://disasterreliefaus.org/event/remote-first-aid-drrt-nsw-sth/
LOCATION:DRRT NSW STH
CATEGORIES:Training Events,Training NSW STH
END:VEVENT
BEGIN:VEVENT
DTSTART;VALUE=DATE:20260321
DTEND;VALUE=DATE:20260323
DTSTAMP:20260421T212956
CREATED:20251118T231833Z
LAST-MODIFIED:20251126T052120Z
UID:10000360-1774051200-1774223999@disasterreliefaus.org
SUMMARY:Fell Trees Intermediate (DRRT NSW STH)
DESCRIPTION:TRAINING EVENT: FWPCOT3350 – Fell trees manually (Intermediate)\nCOURSE PROVIDER: Emergency Australia \nLOCATION: TBC\nDATE: Saturday 21st – Sunday 22nd March 2026\nTIMINGS: \n\nFull Felling Course: 0800 – 1600\, both days\n\n\nONLINE PRE-LEARNING: ~3 hours\nPREREQUISITES:  Must be Engagement Ready or Deployment Ready in Muster and have a Tetanus vaccine up to date. \nWHY THIS TRAINING MATTERS: This training builds advanced skills in tree assessment and cutting\, helping volunteers make informed decisions in complex environments. It focuses on forest dynamics\, safety\, and risk management beyond basic chainsaw use.
URL:https://disasterreliefaus.org/event/fell-trees-intermediate-drrt-nsw-sth/
LOCATION:DRRT NSW STH
CATEGORIES:Training Events,Training NSW STH
ATTACH;FMTTYPE=image/jpeg:https://disasterreliefaus.org/wp-content/uploads/2023/11/51248715935_2137725668_o.jpg
END:VEVENT
BEGIN:VEVENT
DTSTART;VALUE=DATE:20260321
DTEND;VALUE=DATE:20260323
DTSTAMP:20260421T212956
CREATED:20251118T232528Z
LAST-MODIFIED:20251119T001907Z
UID:10000361-1774051200-1774223999@disasterreliefaus.org
SUMMARY:Rural Fencing Supervisor: (DRRT ACT)
DESCRIPTION:TRAINING: AHCINF307 – Plan and construct conventional fencing & AHCINF306 – Plan and construct an electric fence\nCOURSE PROVIDER: Emergency Australia\nLOCATION: 244 Kambah Pool Rd\, Kambah ACT 2902\nDATE: Saturday 21st to Sunday 22nd March 2026\nTIMINGS: 0800 – 1600 – Both days\nONLINE PRE-COURSE REQUIREMENT: ~4 hours\nMUSTER STATUS REQUIRED: Engagement Ready or Deployment Ready and have a Tetanus vaccine up to date\n\n\nWHY THIS TRAINING MATTERS: This supervisor-focused training hones essential rural fencing skills tailored for disaster relief\, including fence line clearance\, efficient dismantling with salvage practices\, and repair techniques. It also covers construction of replacement fences with key components like end assemblies and gates. Designed for supervisors\, the course empowers them to lead Strike Teams in securing property and livestock\, crucial for community recovery after disasters.
URL:https://disasterreliefaus.org/event/rural-fencing-supervisor-drrt-act/
LOCATION:DRRT ACT
CATEGORIES:Training ACT,Training Events
END:VEVENT
END:VCALENDAR