BEGIN:VCALENDAR
VERSION:2.0
PRODID:-//Disaster Relief Australia - ECPv6.10.1.1//NONSGML v1.0//EN
CALSCALE:GREGORIAN
METHOD:PUBLISH
X-WR-CALNAME:Disaster Relief Australia
X-ORIGINAL-URL:https://disasterreliefaus.org
X-WR-CALDESC:Events for Disaster Relief Australia
REFRESH-INTERVAL;VALUE=DURATION:PT1H
X-Robots-Tag:noindex
X-PUBLISHED-TTL:PT1H
BEGIN:VTIMEZONE
TZID:Australia/Adelaide
BEGIN:STANDARD
TZOFFSETFROM:+1030
TZOFFSETTO:+0930
TZNAME:ACST
DTSTART:20260404T163000
END:STANDARD
BEGIN:DAYLIGHT
TZOFFSETFROM:+0930
TZOFFSETTO:+1030
TZNAME:ACDT
DTSTART:20261003T163000
END:DAYLIGHT
END:VTIMEZONE
BEGIN:VEVENT
DTSTART;VALUE=DATE:20260328
DTEND;VALUE=DATE:20260330
DTSTAMP:20260422T013312
CREATED:20251119T003729Z
LAST-MODIFIED:20251126T052054Z
UID:10000368-1774656000-1774828799@disasterreliefaus.org
SUMMARY:Maintain Chainsaws\, Trim & Cut Felled Trees and Pole Saw (DRRT NSW STH)
DESCRIPTION:TRAINING EVENT: FWPCOT2254 Maintain chainsaws & FWPCOT2273 Trim and cut felled trees & FWPCOT3301 Trim tree using a Polesaw\nCOURSE PROVIDER: Emergency Australia\nLOCATION: TBC\nDATE: Saturday 28th to Sunday 29th March 2026\nTIMINGS: \n\nFull Trim & Cut Course: 0800 – 1600\, Both days\nPolesaw Only: 0800 – 1600\, Second day\n\n\nONLINE PRE-LEARNING: ~9 hours\nPREREQUISITES:  Must be Engagement Ready or Deployment Ready in Muster and have a Tetanus vaccine up to date. \nWHY THIS TRAINING MATTERS: This training equips you with essential skills for disaster recovery operations\, where managing fallen trees and debris safely and efficiently is critical. You’ll learn how to assess\, plan\, and execute tree trimming and cutting tasks with confidence\, skills that are often the first step in helping communities recover from disaster.
URL:https://disasterreliefaus.org/event/maintain-chainsaws-trim-cut-felled-trees-and-pole-saw-drrt-nsw-sth-4/
LOCATION:DRRT NSW STH
CATEGORIES:Training Events,Training NSW STH
ATTACH;FMTTYPE=image/jpeg:https://disasterreliefaus.org/wp-content/uploads/2023/11/51248715935_2137725668_o.jpg
END:VEVENT
BEGIN:VEVENT
DTSTART;VALUE=DATE:20260328
DTEND;VALUE=DATE:20260330
DTSTAMP:20260422T013312
CREATED:20251119T004414Z
LAST-MODIFIED:20251119T004414Z
UID:10000370-1774656000-1774828799@disasterreliefaus.org
SUMMARY:Remote First Aid (DRRT NT)
DESCRIPTION:Remote First Aid:\nProvide First Aid in remote or isolated site – HLTAID013\n\n \n\n\nCOURSE PROVIDER: Emergency Australia\nLOCATION: Goanna Park\, 3698 Arnhem Hwy\, Marrakai NT 0822\nDATE: Saturday 28th to Sunday 29th March 2026\nTIMINGS: 0800 – 1600 both days\nONLINE PRE-COURSE REQUIREMENT: Approx. 6 Hours\nPREREQUISITES:  Must be Engagement Ready or Deployment Ready in Muster\,  have a Tetanus vaccine up to date\, and a valid First Aid and CPR Certificate.\nWHY THIS TRAINING MATTERS:\nThis course builds on standard first aid with skills for remote environments\, including trauma care\, evacuation\, and advanced CPR\, preparing members to respond effectively during emergencies at home or on operation.
URL:https://disasterreliefaus.org/event/remote-first-aid-drrt-nt/
LOCATION:DRRT NT
CATEGORIES:Training Events,Training NT
END:VEVENT
BEGIN:VEVENT
DTSTART;VALUE=DATE:20260328
DTEND;VALUE=DATE:20260330
DTSTAMP:20260422T013312
CREATED:20251119T004717Z
LAST-MODIFIED:20251119T004717Z
UID:10000371-1774656000-1774828799@disasterreliefaus.org
SUMMARY:Rural Fencing Supervisor: (DRRT QLD NTH)
DESCRIPTION:TRAINING: AHCINF307 – Plan and construct conventional fencing & AHCINF306 – Plan and construct an electric fence\nCOURSE PROVIDER: Emergency Australia\nLOCATION: 92 Ryans Road\, Reid River QLD 4816\nDATE: Saturday 28th to Sunday 29th March 2026\nTIMINGS: 0800 – 1600 – Both days\nONLINE PRE-COURSE REQUIREMENT: ~4 hours\nMUSTER STATUS REQUIRED: Engagement Ready or Deployment Ready and have a Tetanus vaccine up to date\n\n\nWHY THIS TRAINING MATTERS: This supervisor-focused training hones essential rural fencing skills tailored for disaster relief\, including fence line clearance\, efficient dismantling with salvage practices\, and repair techniques. It also covers construction of replacement fences with key components like end assemblies and gates. Designed for supervisors\, the course empowers them to lead Strike Teams in securing property and livestock\, crucial for community recovery after disasters.
URL:https://disasterreliefaus.org/event/rural-fencing-supervisor-drrt-qld-nth/
LOCATION:DRRT QLD NTH
CATEGORIES:Training Events,Training QLD NTH
END:VEVENT
BEGIN:VEVENT
DTSTART;VALUE=DATE:20260328
DTEND;VALUE=DATE:20260330
DTSTAMP:20260422T013312
CREATED:20251119T004922Z
LAST-MODIFIED:20251203T053700Z
UID:10000372-1774656000-1774828799@disasterreliefaus.org
SUMMARY:Maintain Chainsaws\, Trim & Cut Felled Trees and Pole Saw (DRRT QLD STH)
DESCRIPTION:TRAINING EVENT: FWPCOT2254 Maintain chainsaws & FWPCOT2273 Trim and cut felled trees & FWPCOT3301 Trim tree using a Polesaw\nCOURSE PROVIDER: Emergency Australia\nLOCATION: Murrenbong Scout Activity Centre. 135 Scout Rd\, Kurwongbah QLD 4503 \nDATE: Saturday 28th to Sunday 29th March 2026\nTIMINGS: \n\nFull Trim & Cut Course: 0800 – 1600\, Both days\nPolesaw Only: 0800 – 1600\, Second day\n\n\nONLINE PRE-LEARNING: ~9 hours\nPREREQUISITES:  Must be Engagement Ready or Deployment Ready in Muster and have a Tetanus vaccine up to date. \nWHY THIS TRAINING MATTERS: This training equips you with essential skills for disaster recovery operations\, where managing fallen trees and debris safely and efficiently is critical. You’ll learn how to assess\, plan\, and execute tree trimming and cutting tasks with confidence\, skills that are often the first step in helping communities recover from disaster.
URL:https://disasterreliefaus.org/event/maintain-chainsaws-trim-cut-felled-trees-and-pole-saw-drrt-qld-sth/
LOCATION:DRRT QLD STH
CATEGORIES:Training Events,Training QLD STH
ATTACH;FMTTYPE=image/jpeg:https://disasterreliefaus.org/wp-content/uploads/2023/11/51248715935_2137725668_o.jpg
END:VEVENT
BEGIN:VEVENT
DTSTART;VALUE=DATE:20260328
DTEND;VALUE=DATE:20260330
DTSTAMP:20260422T013312
CREATED:20251216T045934Z
LAST-MODIFIED:20251216T045934Z
UID:10000378-1774656000-1774828799@disasterreliefaus.org
SUMMARY:Operational Skills Training: (DRRT NSW Nth)
DESCRIPTION:TRAINING EVENT: Operational Skills Training\nCOURSE PROVIDER: Internal Disaster Relief and Recovery Team\n\nLOCATION: Tweed Heads\nDATE: Saturday 28th to Sunday 29th March 2026\nTIMINGS 0800 – 1600 both days\nPREREQUISITES: Must be Engagement Ready or Deployment Ready in Muster and have Tetanus vaccine up to date.
URL:https://disasterreliefaus.org/event/operational-skills-training-drrt-nsw-nth-6/
LOCATION:DRRT NSW NTH
CATEGORIES:Training Events,Training NSW NTH
END:VEVENT
END:VCALENDAR