BEGIN:VCALENDAR
VERSION:2.0
PRODID:-//Disaster Relief Australia - ECPv6.10.1.1//NONSGML v1.0//EN
CALSCALE:GREGORIAN
METHOD:PUBLISH
X-WR-CALNAME:Disaster Relief Australia
X-ORIGINAL-URL:https://disasterreliefaus.org
X-WR-CALDESC:Events for Disaster Relief Australia
REFRESH-INTERVAL;VALUE=DURATION:PT1H
X-Robots-Tag:noindex
X-PUBLISHED-TTL:PT1H
BEGIN:VTIMEZONE
TZID:Australia/Adelaide
BEGIN:STANDARD
TZOFFSETFROM:+1030
TZOFFSETTO:+0930
TZNAME:ACST
DTSTART:20250405T163000
END:STANDARD
BEGIN:DAYLIGHT
TZOFFSETFROM:+0930
TZOFFSETTO:+1030
TZNAME:ACDT
DTSTART:20251004T163000
END:DAYLIGHT
END:VTIMEZONE
BEGIN:VEVENT
DTSTART;VALUE=DATE:20250517
DTEND;VALUE=DATE:20250519
DTSTAMP:20260420T091438
CREATED:20240530T043029Z
LAST-MODIFIED:20250120T233741Z
UID:10000186-1747440000-1747612799@disasterreliefaus.org
SUMMARY:Rural Fencing Supervisor: (DRRT QLD NTH)
DESCRIPTION:Rural Fencing Supervisor:\n– Plan and construct an electric fence – AHCINF306\n– Plan and construct conventional fencing – AHCINF307 \n \n\nCOURSE PROVIDER: Emergency Australia\nLOCATION: 92 Ryans Road\, Reid River QLD 4816\nDATE: Saturday 17th & Sunday 18th May 2025\nTIMINGS: 0800 – 1630 – Both days\nONLINE PRE-COURSE REQUIREMENT: = TBC\nMUSTER STATUS REQUIRED: Engagement Ready or Deployment Ready
URL:https://disasterreliefaus.org/event/rural-fencing-supervisor-drt-qld-nth/
LOCATION:DRRT QLD NTH
CATEGORIES:Training Events,Training QLD NTH
END:VEVENT
BEGIN:VEVENT
DTSTART;VALUE=DATE:20250524
DTEND;VALUE=DATE:20250525
DTSTAMP:20260420T091438
CREATED:20240530T001827Z
LAST-MODIFIED:20250307T002014Z
UID:10000181-1748044800-1748131199@disasterreliefaus.org
SUMMARY:First Aid & CPR (DRRT QLD NTH)
DESCRIPTION:First Aid & CPR:\n– Provide cardiopulmonary resuscitation – HLTAID009\n– Provide first aid – HLTAID011\n\n \n\n\nTRAINING EVENT: HLTAID011 – Provide First Aid and HLTAID009 – Provide cardiopulmonary resuscitation\nCOURSE PROVIDER: Emergency Australia\nLOCATION: Townsville RSL\nDATE: Saturday 24th May 2025\nTIMINGS: First Aid: 0800 – 1600 – CPR Only: 0800 – 1100 (Couple hours only)\nONLINE PRE-COURSE REQUIREMENT: = First Aid = 4 hours Approx. – CPR = 1.5 hours Approx.\nMUSTER STATUS REQUIRED: Engagement Ready or Deployment Ready
URL:https://disasterreliefaus.org/event/first-aid-cpr-drt-qld-nth-3/
LOCATION:DRRT QLD NTH
CATEGORIES:Training Events,Training QLD NTH
END:VEVENT
BEGIN:VEVENT
DTSTART;VALUE=DATE:20250531
DTEND;VALUE=DATE:20250602
DTSTAMP:20260420T091438
CREATED:20240530T000148Z
LAST-MODIFIED:20250423T060155Z
UID:10000170-1748649600-1748822399@disasterreliefaus.org
SUMMARY:Chainsaw Fell Trees Manually (basic) (DRRT QLD NTH)
DESCRIPTION:Chainsaw:\nFell Trees Manually (basic) – FWPCOT2274\n\n \n\n\nTRAINING EVENT: FWPCOT2274 – Fell trees manually (Basic)\nCOURSE PROVIDER: Emergency Australia\nLOCATION: 606 Boulders Rd\, Babinda\nDATE: Saturday 31st May – Sunday 1st June 2025\nTIMINGS: 0800 – 1600\nONLINE PRE-COURSE REQUIREMENT: Approx. 3 Hours\nMUSTER STATUS REQUIRED: Engagement Ready or Deployment Ready
URL:https://disasterreliefaus.org/event/chainsaw-fell-trees-manually-basic-drt-qld-nth/
LOCATION:DRRT QLD NTH
CATEGORIES:Training Events,Training QLD NTH
END:VEVENT
END:VCALENDAR