BEGIN:VCALENDAR
VERSION:2.0
PRODID:-//Disaster Relief Australia - ECPv6.10.1.1//NONSGML v1.0//EN
CALSCALE:GREGORIAN
METHOD:PUBLISH
X-WR-CALNAME:Disaster Relief Australia
X-ORIGINAL-URL:https://disasterreliefaus.org
X-WR-CALDESC:Events for Disaster Relief Australia
REFRESH-INTERVAL;VALUE=DURATION:PT1H
X-Robots-Tag:noindex
X-PUBLISHED-TTL:PT1H
BEGIN:VTIMEZONE
TZID:Australia/Adelaide
BEGIN:STANDARD
TZOFFSETFROM:+1030
TZOFFSETTO:+0930
TZNAME:ACST
DTSTART:20250405T163000
END:STANDARD
BEGIN:DAYLIGHT
TZOFFSETFROM:+0930
TZOFFSETTO:+1030
TZNAME:ACDT
DTSTART:20251004T163000
END:DAYLIGHT
END:VTIMEZONE
BEGIN:VEVENT
DTSTART;VALUE=DATE:20250614
DTEND;VALUE=DATE:20250616
DTSTAMP:20260420T044851
CREATED:20240530T000831Z
LAST-MODIFIED:20250423T055922Z
UID:10000174-1749859200-1750031999@disasterreliefaus.org
SUMMARY:Chainsaw Fell Trees Manually (Intermediate) (DRRT QLD NTH)
DESCRIPTION:Chainsaw Fell Trees Manually (Intermediate) – FWPCOT3347\n\n \n\n\n\nTRAINING EVENT: FWPCOT3347 – Fell trees manually (intermediate)\nCOURSE PROVIDER: Emergency Australia\nLOCATION: 606 Boulder Rd\, Babinda\nDATE: Saturday 14th – Sunday 15th June 2025\nTIMINGS: 0800 – 1600\nONLINE PRE-COURSE REQUIREMENT: Approx. 3 Hours\nMUSTER STATUS REQUIRED: Engagement Ready or Deployment Ready
URL:https://disasterreliefaus.org/event/chainsaw-fell-trees-manually-intermediate-drt-qld-nth-2/
LOCATION:DRRT QLD NTH
CATEGORIES:Training Events,Training QLD NTH
END:VEVENT
END:VCALENDAR