BEGIN:VCALENDAR
VERSION:2.0
PRODID:-//Disaster Relief Australia - ECPv6.10.1.1//NONSGML v1.0//EN
CALSCALE:GREGORIAN
METHOD:PUBLISH
X-ORIGINAL-URL:https://disasterreliefaus.org
X-WR-CALDESC:Events for Disaster Relief Australia
REFRESH-INTERVAL;VALUE=DURATION:PT1H
X-Robots-Tag:noindex
X-PUBLISHED-TTL:PT1H
BEGIN:VTIMEZONE
TZID:Australia/Adelaide
BEGIN:STANDARD
TZOFFSETFROM:+1030
TZOFFSETTO:+0930
TZNAME:ACST
DTSTART:20230401T163000
END:STANDARD
BEGIN:DAYLIGHT
TZOFFSETFROM:+0930
TZOFFSETTO:+1030
TZNAME:ACDT
DTSTART:20230930T163000
END:DAYLIGHT
END:VTIMEZONE
BEGIN:VEVENT
DTSTART;VALUE=DATE:20231118
DTEND;VALUE=DATE:20231119
DTSTAMP:20260421T074405
CREATED:20231115T230924Z
LAST-MODIFIED:20240129T232442Z
UID:10000009-1700265600-1700351999@disasterreliefaus.org
SUMMARY:First Aid & CPR (DRT QLD NTH)
DESCRIPTION:TRAINING EVENT: HLTAID011 – Provide First Aid and HLTAID009 – Provide cardiopulmonary resuscitation\nCOURSE PROVIDER: Emergency Australia\nLOCATION: The Oasis Townsville – 1 Staging Camp Avenue\, Oonoonba 4811\nDATE: Saturday 18th November 2023\nTIMINGS: First Aid: 0900 – 1400 OR CPR Only: 0900 – 1030 (Couple hours only)\nONLINE PRE-COURSE REQUIREMENT: First Aid = 4 hours Approx. – CPR = 1.5 hours Approx.\nMUSTER STATUS REQUIRED: Engagement Ready or Deployment Ready \nBACKGROUND\nDisaster Relief Australia and DRT Queensland North are hosting a First Aid OR CPR Only Course to up-skill our Members ready for any injuries or acute illnesses that may occur\, at home\, in the workplace\, or out on a DRA activity.  Having the skills to save a life and minimise suffering are critical\, yet often undervalued…until you need them.  Do you have the accessible skills to save the life of a family member\, colleague or mate today.
URL:https://disasterreliefaus.org/event/first-aid-cpr-drt-qld-nth/
LOCATION:DRRT QLD NTH
CATEGORIES:Training Events,Training QLD NTH
END:VEVENT
BEGIN:VEVENT
DTSTART;VALUE=DATE:20231118
DTEND;VALUE=DATE:20231120
DTSTAMP:20260421T074406
CREATED:20231115T232646Z
LAST-MODIFIED:20231116T062227Z
UID:10000014-1700265600-1700438399@disasterreliefaus.org
SUMMARY:Fell Tree Course (DRT NSW STH)
DESCRIPTION:Applications for this course have now closed.
URL:https://disasterreliefaus.org/event/fell-tree-course-drt-nsw-sth/
LOCATION:DRRT NSW STH
CATEGORIES:Training NSW STH
END:VEVENT
BEGIN:VEVENT
DTSTART;VALUE=DATE:20231124
DTEND;VALUE=DATE:20231125
DTSTAMP:20260421T074406
CREATED:20231116T001608Z
LAST-MODIFIED:20240129T232133Z
UID:10000018-1700784000-1700870399@disasterreliefaus.org
SUMMARY:Trim Trees Using a Pole Saw (DRT ACT)
DESCRIPTION:DRT ACT – TCA: Trim Trees Using a Pole Saw – 24 November 2023\n\n\n\nTRAINING COURSE:  Trim Trees Using a Pole Saw\nCOURSE PROVIDER:  Climb High Training (CHT)\nLOCATIONS:  880 Federal Highway Watson ACT 2602\nDATE:  24 November 2023\nTIMINGS:  0800-1600\nWHO:  DRA members at Engagement or Deployment Ready and are committed to DRA deployments to utilise the training. It is preferable but not mandatory that members have had some chainsaw qualifications and experience.\nHOW:  Submit this Training Course Application (TCA) no later than 27 Oct 23 and you will be notified if selected for the course.\n\nBACKGROUND\nDRT ACT is hosting a Pole Saw course to skill/up-skill our teams ready for the next opportunity to serve our communities impacted by a disaster or the provision of other assistance in local service projects.
URL:https://disasterreliefaus.org/event/trim-trees-using-a-pole-saw-drt-act/
LOCATION:DRRT ACT
CATEGORIES:Training ACT
END:VEVENT
BEGIN:VEVENT
DTSTART;VALUE=DATE:20231125
DTEND;VALUE=DATE:20231126
DTSTAMP:20260421T074406
CREATED:20231115T014737Z
LAST-MODIFIED:20240129T232042Z
UID:10000007-1700870400-1700956799@disasterreliefaus.org
SUMMARY:Chainsaw Skills Training (DRT WA)
DESCRIPTION:TRAINING EVENT: Chainsaw Skills Training\nCOURSE PROVIDER: Disaster Relief Team WA\nLOCATION: Marella Road Reserve – Meet at Annies Landing Playground – Inglis Avenue – Ellenbrook 6069\nDATE/TIME: Saturday 25th of October 2023 – 08:15am – 12:30pm\nMUSTER STATUS REQUIRED: Engagement Ready or Deployment Ready \nBACKGROUND-\nDrawing upon the solid training you’ve already received from DRA\, it’s time to sharpen your chainsaw expertise even further. As the upcoming bushfire season looms\, we want you not only ready but also confident and empowered to step in. Your skills with the chainsaw can create a huge impact when serving vulnerable communities in need. Being the first step in recovery\, you’ll be a beacon of hope for many bushfire-affected communities \nDisaster Relief Australia and the DRT WA are strengthening their cadre of chainsaw skilled operators by providing continued access to chainsaw training for members to acquire new\, or advance established skills. To maintain competency\, it is essential our chainsaw operators seek opportunity to practice their cutting techniques. \nFor DRA members interested in future chainsaw training\, this offers an up-close look at chainsaw operation through the experiences of qualified DRA chainsaw operators. Gain insights into its role in disaster recovery and get a feel for how this training could align with your interests and contributions to DRA operations.\nWe urge all members to participate – as supporting labour\, and as qualified sawyers
URL:https://disasterreliefaus.org/event/chainsaw-skills-training-drt-wa/
LOCATION:DRRT WA
CATEGORIES:Training Events
END:VEVENT
BEGIN:VEVENT
DTSTART;VALUE=DATE:20231125
DTEND;VALUE=DATE:20231126
DTSTAMP:20260421T074406
CREATED:20231115T232329Z
LAST-MODIFIED:20240129T231916Z
UID:10000013-1700870400-1700956799@disasterreliefaus.org
SUMMARY:First Aid (DRT NSW NTH)
DESCRIPTION:TRAINING EVENT: HLTAID011 – Provide First Aid and HLTAID009 – Provide cardiopulmonary resuscitation\nCOURSE PROVIDER: Emergency Australia\nLOCATION: Port Macquarie Public Library\, Grant Street Port Macquarie NSW\nDATE: Saturday 25th November 2023\nTIMINGS: First Aid 9 am – 2 pm OR CPR Only 9 am – 11 am\nONLINE PRE-COURSE REQUIREMENT: First Aid = 4 hours Approx. – CPR = 1.5 hours Approx.\nMUSTER STATUS REQUIRED: Engagement Ready or Deployment Ready \nBACKGROUND\nAn invaluable opportunity awaits. Presenting a First Aid Course tailored to empower you with vital skills for deployments. Master the art of responding swiftly and effectively to unexpected injuries\, accidents\, and emergencies. Beyond deployments\, these skills become assets in daily life – equipping you to make a tangible difference within your family\, at work\, and across our broader community. Your preparedness today can be the difference between life and death tomorrow.
URL:https://disasterreliefaus.org/event/first-aid-drt-nsw-nth/
LOCATION:DRRT NSW NTH
CATEGORIES:Training NSW NTH
END:VEVENT
BEGIN:VEVENT
DTSTART;VALUE=DATE:20231125
DTEND;VALUE=DATE:20231127
DTSTAMP:20260421T074406
CREATED:20231115T231132Z
LAST-MODIFIED:20240129T231343Z
UID:10000010-1700870400-1701043199@disasterreliefaus.org
SUMMARY:Remote First Aid (DRT QLD NTH)
DESCRIPTION:TRAINING EVENT: HLTAID013 – Provide First Aid in remote or isolated site\nCOURSE PROVIDER: Emergency Australia\nLOCATION: TBC (Townsville Area)\nDATE: Saturday/Sunday 25-26th November 2023\nTIMINGS: Remote First Aid: 0845 – 1600 Both days\nONLINE PRE-COURSE REQUIREMENT: = Approx. 6 Hours\nMUSTER STATUS REQUIRED: Engagement Ready or Deployment Ready \nBACKGROUND\nJoin DRA and DRT Queensland North for a Remote First Aid Course\, meticulously designed to equip our members with invaluable skills for responding to medical emergencies in remote or isolated settings. This comprehensive training enhances our members’ preparedness and capability to handle unforeseen situations\, reducing risks and ensuring safety during DRA activities\, off-grid adventures\, or remote missions. \nBeyond standard first aid\, this course offers specialised training in remote environments\, including the use of specialided equipment\, advanced CPR techniques\, trauma management\, and evacuation coordination. By completing this course\, our members become capable of making a substantial impact during medical emergenices\, at home or during DRA operations\, potentially saving lives. The training aligns with industry-standard practices\, ensures legal awareness\, addresses psychological support\, and involves realistic assessments in simulated environments\, reinforcing our members’ ability to provide effective remote first aid.
URL:https://disasterreliefaus.org/event/remote-first-aid-drtqldnth/
LOCATION:DRRT QLD NTH
CATEGORIES:Training Events,Training QLD NTH
END:VEVENT
END:VCALENDAR