BEGIN:VCALENDAR
VERSION:2.0
PRODID:-//Disaster Relief Australia - ECPv6.10.1.1//NONSGML v1.0//EN
CALSCALE:GREGORIAN
METHOD:PUBLISH
X-WR-CALNAME:Disaster Relief Australia
X-ORIGINAL-URL:https://disasterreliefaus.org
X-WR-CALDESC:Events for Disaster Relief Australia
REFRESH-INTERVAL;VALUE=DURATION:PT1H
X-Robots-Tag:noindex
X-PUBLISHED-TTL:PT1H
BEGIN:VTIMEZONE
TZID:Australia/Adelaide
BEGIN:STANDARD
TZOFFSETFROM:+1030
TZOFFSETTO:+0930
TZNAME:ACST
DTSTART:20240406T163000
END:STANDARD
BEGIN:DAYLIGHT
TZOFFSETFROM:+0930
TZOFFSETTO:+1030
TZNAME:ACDT
DTSTART:20241005T163000
END:DAYLIGHT
END:VTIMEZONE
BEGIN:VEVENT
DTSTART;VALUE=DATE:20240210
DTEND;VALUE=DATE:20240212
DTSTAMP:20260421T033502
CREATED:20231213T115620Z
LAST-MODIFIED:20240201T215420Z
UID:10000034-1707523200-1707695999@disasterreliefaus.org
SUMMARY:Trim & Cut Fell trees\, Maintain Chainsaws (DRT NSW STH)
DESCRIPTION:DRT NSW STH- Trim & Cut Fell trees\, Maintain Chainsaws – 10th – 11th February 2024\n\n\n\nTRAINING EVENT: FWPCOT2254 Maintain chainsaws & FWPCOT2273 Trim and cut felled trees\nCOURSE PROVIDER: Emergency Australia\nLOCATION: Sawyers Gully (Hunter Valley)\nDATE:  Saturday 10th – Sunday 11th February 2024\nTIMINGS: First Aid: 0900 – 1600\nONLINE PRE-COURSE REQUIREMENT: = E-learning\nMUSTER STATUS REQUIRED: Engagement Ready or Deployment Ready
URL:https://disasterreliefaus.org/event/trim-cut-fell-trees-maintain-chainsaws-and-pole-saw-drt-nsw-sth/
LOCATION:DRRT NSW STH
CATEGORIES:Training NSW STH
ATTACH;FMTTYPE=image/jpeg:https://disasterreliefaus.org/wp-content/uploads/2023/11/51248715935_2137725668_o.jpg
END:VEVENT
BEGIN:VEVENT
DTSTART;VALUE=DATE:20240210
DTEND;VALUE=DATE:20240212
DTSTAMP:20260421T033502
CREATED:20231218T035808Z
LAST-MODIFIED:20240125T020429Z
UID:10000048-1707523200-1707695999@disasterreliefaus.org
SUMMARY:4WD Certification (DRT SA)
DESCRIPTION:4WD Certification:\n– Operate four wheel drive vehicle on unsealed roads – FWPCOT3325\n– Recover four wheel drive vehicle – FWPCOT3326\n\n \n\n\nTRAINING EVENT: FWPCOT3325 Operate four wheel drive vehicle on unsealed roads + FWPCOT3326 Recover four wheel drive vehicle\nCOURSE PROVIDER: Emergency Australia\nLOCATION: Adelaide Hills 4WD Park\, St Ives SA\nDATE:  Saturday & Sunday\, 10-11 February 2024\nTIMINGS: 0900 – 1600 Both Days\nONLINE PRE-COURSE REQUIREMENT: = 4 hours Approx.\nMUSTER STATUS REQUIRED: Engagement Ready or Deployment Ready
URL:https://disasterreliefaus.org/event/drt-sa-2/
LOCATION:DRRT SA
CATEGORIES:Training Events,Training SA
END:VEVENT
BEGIN:VEVENT
DTSTART;VALUE=DATE:20240224
DTEND;VALUE=DATE:20240225
DTSTAMP:20260421T033502
CREATED:20231218T040016Z
LAST-MODIFIED:20240125T020441Z
UID:10000049-1708732800-1708819199@disasterreliefaus.org
SUMMARY:Advanced First Aid (DRT SA)
DESCRIPTION:Advanced First Aid:\nProvide Advanced First Aid – HLTAID014\n\n \n\n\nTRAINING EVENT: HLTAID014 – Provide Advanced First Aid\nCOURSE PROVIDER: Emergency Australia\nLOCATION: Veteran Wellbeing Centre\, Bldg 37\, Repat Health Precinct\, 216 Daws Road\, Daw Park SA 5041\nDATE:  Saturday 24 February 2024\nTIMINGS: 0900 – 1600\nONLINE PRE-COURSE REQUIREMENT: = Approx. 9 Hours\nMUSTER STATUS REQUIRED: Engagement Ready or Deployment Ready
URL:https://disasterreliefaus.org/event/drt-sa-3/
LOCATION:DRRT SA
CATEGORIES:Training Events,Training SA
END:VEVENT
BEGIN:VEVENT
DTSTART;VALUE=DATE:20240224
DTEND;VALUE=DATE:20240225
DTSTAMP:20260421T033502
CREATED:20231218T045639Z
LAST-MODIFIED:20240125T015416Z
UID:10000060-1708732800-1708819199@disasterreliefaus.org
SUMMARY:First Aid & CPR (DRT NT)
DESCRIPTION:First Aid & CPR:\n– Provide cardiopulmonary resuscitation – HLTAID009\n– Provide first aid – HLTAID011\n\n \n\n\nTRAINING EVENT: HLTAID011 – Provide First Aid and HLTAID009 – Provide cardiopulmonary resuscitation\nCOURSE PROVIDER: Emergency Australia\nLOCATION: TBC\nDATE:  Saturday 24th of February 2024\nTIMINGS: First Aid: 0900 – 1400 – CPR Only: 0900 – 1030 (Couple hours only)\nONLINE PRE-COURSE REQUIREMENT: = First Aid = 4 hours Approx. – CPR = 1.5 hours Approx.\nMUSTER STATUS REQUIRED: Engagement Ready or Deployment Ready
URL:https://disasterreliefaus.org/event/drt-nt/
LOCATION:DRRT NT
CATEGORIES:Training Events,Training NT
END:VEVENT
BEGIN:VEVENT
DTSTART;VALUE=DATE:20240224
DTEND;VALUE=DATE:20240225
DTSTAMP:20260421T033502
CREATED:20240112T001143Z
LAST-MODIFIED:20240201T013559Z
UID:10000076-1708732800-1708819199@disasterreliefaus.org
SUMMARY:First Aid & CPR (DRT TAS)
DESCRIPTION:DRT TAS– First Aid & CPR \nTRAINING EVENT: HLTAID011 – Provide First Aid and HLTAID009 – Provide cardiopulmonary resuscitation\nCOURSE PROVIDER: Emergency Australia\nLOCATION: Launceston RSL\nDATE:  Saturday 24th February 2024\nTIMINGS: First Aid: 0900 – 1400 – CPR Only: 0900 – 1030 (Couple hours only)\nONLINE PRE-COURSE REQUIREMENT: = First Aid = 4 hours Approx. – CPR = 1.5 hours Approx.\nMUSTER STATUS REQUIRED: Engagement Ready or Deployment Ready
URL:https://disasterreliefaus.org/event/first-aid-cpr-drt-tas/
LOCATION:DRRT TAS
CATEGORIES:Training Events,Training TAS
ATTACH;FMTTYPE=image/jpeg:https://disasterreliefaus.org/wp-content/uploads/2023/11/First-Aid-CPR-scaled.jpg
END:VEVENT
END:VCALENDAR