BEGIN:VCALENDAR
VERSION:2.0
PRODID:-//Disaster Relief Australia - ECPv6.10.1.1//NONSGML v1.0//EN
CALSCALE:GREGORIAN
METHOD:PUBLISH
X-WR-CALNAME:Disaster Relief Australia
X-ORIGINAL-URL:https://disasterreliefaus.org
X-WR-CALDESC:Events for Disaster Relief Australia
REFRESH-INTERVAL;VALUE=DURATION:PT1H
X-Robots-Tag:noindex
X-PUBLISHED-TTL:PT1H
BEGIN:VTIMEZONE
TZID:Australia/Adelaide
BEGIN:STANDARD
TZOFFSETFROM:+1030
TZOFFSETTO:+0930
TZNAME:ACST
DTSTART:20250405T163000
END:STANDARD
BEGIN:DAYLIGHT
TZOFFSETFROM:+0930
TZOFFSETTO:+1030
TZNAME:ACDT
DTSTART:20251004T163000
END:DAYLIGHT
END:VTIMEZONE
BEGIN:VEVENT
DTSTART;VALUE=DATE:20250522
DTEND;VALUE=DATE:20250524
DTSTAMP:20260423T030007
CREATED:20240528T223715Z
LAST-MODIFIED:20250313T231543Z
UID:10000091-1747872000-1748044799@disasterreliefaus.org
SUMMARY:Fell Trees Manually (Basic) (DRRT ACT)
DESCRIPTION:DRRT ACT – Fell Trees Manually (Basic) – Thursday\, 22nd and Friday\, 23rd May 2025 \nTRAINING EVENT: FWPCOT2275 – Fell trees manually (Basic)\nCOURSE PROVIDER: Emergency Australia\nLOCATION: Ingedene\, Thawa \nDATE: Thursday\, 22nd and Friday\, 23rd May 2025\nTIMINGS: 0800 – 1600\nONLINE PRE-COURSE REQUIREMENT: Approx. 3 hours\nMUSTER STATUS REQUIRED: Engagement Ready or Deployment Ready
URL:https://disasterreliefaus.org/event/fell-trees-manually-intermediate-drt-act/
LOCATION:DRRT ACT
CATEGORIES:Training Events,Training NSW NTH
ATTACH;FMTTYPE=image/jpeg:https://disasterreliefaus.org/wp-content/uploads/2023/12/Tree-Felling-Intermediate.jpg
END:VEVENT
END:VCALENDAR