BEGIN:VCALENDAR
VERSION:2.0
PRODID:-//Disaster Relief Australia - ECPv6.10.1.1//NONSGML v1.0//EN
CALSCALE:GREGORIAN
METHOD:PUBLISH
X-ORIGINAL-URL:https://disasterreliefaus.org
X-WR-CALDESC:Events for Disaster Relief Australia
REFRESH-INTERVAL;VALUE=DURATION:PT1H
X-Robots-Tag:noindex
X-PUBLISHED-TTL:PT1H
BEGIN:VTIMEZONE
TZID:Australia/Adelaide
BEGIN:STANDARD
TZOFFSETFROM:+1030
TZOFFSETTO:+0930
TZNAME:ACST
DTSTART:20250405T163000
END:STANDARD
BEGIN:DAYLIGHT
TZOFFSETFROM:+0930
TZOFFSETTO:+1030
TZNAME:ACDT
DTSTART:20251004T163000
END:DAYLIGHT
END:VTIMEZONE
BEGIN:VEVENT
DTSTART;VALUE=DATE:20250607
DTEND;VALUE=DATE:20250608
DTSTAMP:20260420T062311
CREATED:20240531T024206Z
LAST-MODIFIED:20250307T001852Z
UID:10000200-1749254400-1749340799@disasterreliefaus.org
SUMMARY:First Aid & CPR (DRRT SA)
DESCRIPTION:First Aid & CPR:\n– Provide cardiopulmonary resuscitation – HLTAID009\n– Provide first aid – HLTAID011\n\n \n\n\nTRAINING EVENT: HLTAID011 – Provide First Aid and HLTAID009 – Provide cardiopulmonary resuscitation\nCOURSE PROVIDER: Emergency Australia\nLOCATION: Adelaide Office – 10 Greenhill Rd\, Wayville\nDATE: Saturday 7th June 2025\nTIMINGS: First Aid: 0800 – 1600 – CPR Only: 0800 – 1100 (Couple hours only)\nONLINE PRE-COURSE REQUIREMENT: = First Aid = 4 hours Approx. – CPR = 1.5 hours Approx.\nMUSTER STATUS REQUIRED: Engagement Ready or Deployment Ready
URL:https://disasterreliefaus.org/event/first-aid-cpr-drt-sa-2/
LOCATION:DRRT SA
CATEGORIES:Training Events,Training SA
END:VEVENT
BEGIN:VEVENT
DTSTART;VALUE=DATE:20250607
DTEND;VALUE=DATE:20250609
DTSTAMP:20260420T062311
CREATED:20240531T023927Z
LAST-MODIFIED:20250306T221715Z
UID:10000198-1749254400-1749427199@disasterreliefaus.org
SUMMARY:Chainsaw Fell Trees Manually (Intermediate) (DRRT SA)
DESCRIPTION:Chainsaw:\n– Fell Trees Manually (Intermediate) – FWPCOT3350\n\n \n\n\nCOURSE PROVIDER: Emergency Australia\nLOCATION: 421 Cudlee Creek Rd\, Cudlee Creek\nDATE: Saturday and Sunday\, 7-8 June 2025\nTIMINGS: 0800 – 1600\, both days\nONLINE PRE-COURSE REQUIREMENT: = (TBC)\nMUSTER STATUS REQUIRED: Engagement Ready or Deployment Ready
URL:https://disasterreliefaus.org/event/chainsaw-fell-trees-manually-intermediate-drt-sa/
LOCATION:DRRT SA
CATEGORIES:Training Events,Training SA
END:VEVENT
END:VCALENDAR