BEGIN:VCALENDAR
VERSION:2.0
PRODID:-//Disaster Relief Australia - ECPv6.10.1.1//NONSGML v1.0//EN
CALSCALE:GREGORIAN
METHOD:PUBLISH
X-WR-CALNAME:Disaster Relief Australia
X-ORIGINAL-URL:https://disasterreliefaus.org
X-WR-CALDESC:Events for Disaster Relief Australia
REFRESH-INTERVAL;VALUE=DURATION:PT1H
X-Robots-Tag:noindex
X-PUBLISHED-TTL:PT1H
BEGIN:VTIMEZONE
TZID:Australia/Adelaide
BEGIN:STANDARD
TZOFFSETFROM:+1030
TZOFFSETTO:+0930
TZNAME:ACST
DTSTART:20240406T163000
END:STANDARD
BEGIN:DAYLIGHT
TZOFFSETFROM:+0930
TZOFFSETTO:+1030
TZNAME:ACDT
DTSTART:20241005T163000
END:DAYLIGHT
END:VTIMEZONE
BEGIN:VEVENT
DTSTART;VALUE=DATE:20241123
DTEND;VALUE=DATE:20241125
DTSTAMP:20260421T003052
CREATED:20240729T223131Z
LAST-MODIFIED:20240830T044848Z
UID:10000231-1732320000-1732492799@disasterreliefaus.org
SUMMARY:Operational Skills Weekend: (DRT TAS)
DESCRIPTION:Operational Skills Weekend:\nTRAINING EVENT: Operational Skills Weekend\nCOURSE PROVIDER: Disaster Relief Team TAS\nLOCATION: Launceston Region\nDATE: Saturday 23rd – Sunday 24th November 2024\nTIMINGS: 0900 – 1600\, participants can select to attend one\, or both days\nMUSTER STATUS REQUIRED: Engagement Ready or Deployment Ready
URL:https://disasterreliefaus.org/event/operational-skills-weekend-drt-tas/
LOCATION:DRRT TAS
CATEGORIES:Training Events,Training TAS
ATTACH;FMTTYPE=image/jpeg:https://disasterreliefaus.org/wp-content/uploads/2024/07/51730684069_acf3a88488_c.jpg
END:VEVENT
BEGIN:VEVENT
DTSTART;VALUE=DATE:20241130
DTEND;VALUE=DATE:20241201
DTSTAMP:20260421T003052
CREATED:20240619T232343Z
LAST-MODIFIED:20241024T002227Z
UID:10000208-1732924800-1733011199@disasterreliefaus.org
SUMMARY:First Aid & CPR (DRT TAS)
DESCRIPTION:DRT TAS– First Aid & CPR – Saturday 30th November 2024 \nTRAINING EVENT: HLTAID011 – Provide First Aid and HLTAID009 – Provide cardiopulmonary resuscitation\nCOURSE PROVIDER: Emergency Australia\nLOCATION: TBC\nDATE:  Saturday 30th November 2024\nTIMINGS: First Aid: 0800 – 1600 – CPR Only: 0800 – 1100 (Couple hours only)\nONLINE PRE-COURSE REQUIREMENT: = First Aid = 4 hours Approx. – CPR = 1.5 hours Approx.\nMUSTER STATUS REQUIRED: Engagement Ready or Deployment Ready
URL:https://disasterreliefaus.org/event/first-aid-cpr-drt-tas-2/
LOCATION:DRRT TAS
CATEGORIES:Training Events,Training TAS
ATTACH;FMTTYPE=image/jpeg:https://disasterreliefaus.org/wp-content/uploads/2023/11/First-Aid-CPR-scaled.jpg
END:VEVENT
END:VCALENDAR