BEGIN:VCALENDAR
VERSION:2.0
PRODID:-//Disaster Relief Australia - ECPv6.10.1.1//NONSGML v1.0//EN
CALSCALE:GREGORIAN
METHOD:PUBLISH
X-WR-CALNAME:Disaster Relief Australia
X-ORIGINAL-URL:https://disasterreliefaus.org
X-WR-CALDESC:Events for Disaster Relief Australia
REFRESH-INTERVAL;VALUE=DURATION:PT1H
X-Robots-Tag:noindex
X-PUBLISHED-TTL:PT1H
BEGIN:VTIMEZONE
TZID:Australia/Adelaide
BEGIN:STANDARD
TZOFFSETFROM:+1030
TZOFFSETTO:+0930
TZNAME:ACST
DTSTART:20250405T163000
END:STANDARD
BEGIN:DAYLIGHT
TZOFFSETFROM:+0930
TZOFFSETTO:+1030
TZNAME:ACDT
DTSTART:20251004T163000
END:DAYLIGHT
END:VTIMEZONE
BEGIN:VEVENT
DTSTART;VALUE=DATE:20250118
DTEND;VALUE=DATE:20250120
DTSTAMP:20260421T061226
CREATED:20240620T004726Z
LAST-MODIFIED:20250117T004239Z
UID:10000216-1737158400-1737331199@disasterreliefaus.org
SUMMARY:4WD Course (DRRT TAS)
DESCRIPTION:DRRT TAS – 4WD Certification Training – Saturday 18th – Sunday 19th January 2025 \nTRAINING EVENT: FWPCOT3325 Operate four-wheel drive vehicle on unsealed roads + FWPCOT3326 Recover four-wheel drive vehicle\nCOURSE PROVIDER: Emergency Australia\nLOCATION: State Forest off Hyland Road Murdunna\nDATE: Saturday 18th – Sunday 19th January 2025\nTIMINGS: 0800 – 1600 Both Days\nONLINE PRE-COURSE REQUIREMENT: = 4 hours Approx.\nMUSTER STATUS REQUIRED: Engagement Ready or Deployment Ready
URL:https://disasterreliefaus.org/event/4wd-course-drt-tas/
LOCATION:DRRT TAS
CATEGORIES:Training Events,Training TAS
ATTACH;FMTTYPE=image/jpeg:https://disasterreliefaus.org/wp-content/uploads/2023/12/4WD-scaled.jpg
END:VEVENT
END:VCALENDAR