BEGIN:VCALENDAR
VERSION:2.0
PRODID:-//Disaster Relief Australia - ECPv6.10.1.1//NONSGML v1.0//EN
CALSCALE:GREGORIAN
METHOD:PUBLISH
X-WR-CALNAME:Disaster Relief Australia
X-ORIGINAL-URL:https://disasterreliefaus.org
X-WR-CALDESC:Events for Disaster Relief Australia
REFRESH-INTERVAL;VALUE=DURATION:PT1H
X-Robots-Tag:noindex
X-PUBLISHED-TTL:PT1H
BEGIN:VTIMEZONE
TZID:Australia/Adelaide
BEGIN:STANDARD
TZOFFSETFROM:+1030
TZOFFSETTO:+0930
TZNAME:ACST
DTSTART:20250405T163000
END:STANDARD
BEGIN:DAYLIGHT
TZOFFSETFROM:+0930
TZOFFSETTO:+1030
TZNAME:ACDT
DTSTART:20251004T163000
END:DAYLIGHT
END:VTIMEZONE
BEGIN:VEVENT
DTSTART;VALUE=DATE:20250802
DTEND;VALUE=DATE:20250803
DTSTAMP:20260422T060247
CREATED:20250620T071824Z
LAST-MODIFIED:20250717T015622Z
UID:10000257-1754092800-1754179199@disasterreliefaus.org
SUMMARY:Operational Skills Training: (DRRT WA)
DESCRIPTION:TRAINING EVENT: Operational Skills Training\nCOURSE PROVIDER: Internal Disaster Relief and Recovery Team\nLOCATION: 1 Gladstone Street Perth\nDATE:  Saturday\, 2nd August 2025\nTIMINGS: 0945 – 1600\nPREREQUISITES: Must be Engagement Ready or Deployment Ready in Muster and have a Tetanus vaccine up to date.\nBACKGROUND:\nGain insights into the fundamentals of operations\, logistics\, and strike team structures with DRA. We are committed to enhancing our team’s capabilities through comprehensive training sessions that consolidate your skills in specialised areas such as Chainsaw use\, First Aid\, Incident Management Team (IMT) etc. These follow-up training sessions are crucial for maintaining proficiency and building confidence in your abilities. Our OST’s\, which include a variety of practical sessions\, are designed to help you become more adept and confident\, ensuring you are well-prepared to contribute effectively to disaster recovery operations
URL:https://disasterreliefaus.org/event/operational-skills-training-drt-wa/
LOCATION:DRRT WA
CATEGORIES:Training Event WA,Training Events,Training WA
END:VEVENT
BEGIN:VEVENT
DTSTART;VALUE=DATE:20250815
DTEND;VALUE=DATE:20250817
DTSTAMP:20260422T060247
CREATED:20250620T084110Z
LAST-MODIFIED:20250630T044223Z
UID:10000261-1755216000-1755388799@disasterreliefaus.org
SUMMARY:Fell Trees Manually (Basic) (DRRT WA)
DESCRIPTION:TRAINING EVENT: FWPCOT2275 – Fell trees manually (Basic)\nCOURSE PROVIDER: Emergency Australia\nLOCATION: Gnangara State Forrest\nDATE: Friday 15th – Saturday 16th August 2025\nTIMINGS: 0800 – 1600\, Both days\nONLINE PRE-LEARNING: ~3 hours\nPREREQUISITES: Must be Engagement Ready or Deployment Ready in Muster\, have Tetanus vaccine up to date and be qualified in Maintain Chainsaw\, Trim & Cut Felled Trees.\n\nWHY THIS TRAINING MATTERS: This course builds higher-level skills beyond standard chainsaw trimming\, advancing into safe tree felling\, assessment\, and maintenance. With a strong focus on safety and risk management\, volunteers are better equipped to support disaster recovery operations
URL:https://disasterreliefaus.org/event/fell-trees-manually-basic-drt-wa/
LOCATION:DRRT WA
CATEGORIES:Training Events,Training WA
ATTACH;FMTTYPE=image/jpeg:https://disasterreliefaus.org/wp-content/uploads/2023/11/51730280078_afff83d656_k-1.jpg
END:VEVENT
BEGIN:VEVENT
DTSTART;VALUE=DATE:20250829
DTEND;VALUE=DATE:20250831
DTSTAMP:20260422T060247
CREATED:20250624T082705Z
LAST-MODIFIED:20250630T052520Z
UID:10000277-1756425600-1756598399@disasterreliefaus.org
SUMMARY:Maintain Chainsaws\, Trim & Cut Felled Trees and Pole Saw (DRRT WA)
DESCRIPTION:TRAINING EVENT: FWPCOT2254 Maintain Chainsaws & FWPCOT2273 Trim and Cut Felled trees & FWPCOT3301 Trim Tree using a Polesaw\nCOURSE PROVIDER: Emergency Australia \nLOCATION: Gnangara State Forrest \nDate: Friday 29th – Saturday 30th August \nTIMINGS: \n\nFull Trim & Cut Course: 0800 – 1600\, Both days\nPolesaw Only: 0800 – 1600\, Second day\n\n\nONLINE PRE-LEARNING: ~9 hours\nPREREQUISITES:  Must be Engagement Ready or Deployment Ready in Muster and have a Tetanus vaccine up to date. \nWHY THIS TRAINING MATTERS: This training equips you with essential skills for disaster recovery operations\, where managing fallen trees and debris safely and efficiently is critical. You’ll learn how to assess\, plan\, and execute tree trimming and cutting tasks with confidence\, skills that are often the first step in helping communities recover from disaster.
URL:https://disasterreliefaus.org/event/maintain-chainsaws-trim-cut-felled-trees-and-pole-saw-drt-wa/
LOCATION:DRRT WA
CATEGORIES:Training Events,Training WA
ATTACH;FMTTYPE=image/jpeg:https://disasterreliefaus.org/wp-content/uploads/2023/11/51248715935_2137725668_o.jpg
END:VEVENT
END:VCALENDAR