BEGIN:VCALENDAR
VERSION:2.0
PRODID:-//Disaster Relief Australia - ECPv6.10.1.1//NONSGML v1.0//EN
CALSCALE:GREGORIAN
METHOD:PUBLISH
X-ORIGINAL-URL:https://disasterreliefaus.org
X-WR-CALDESC:Events for Disaster Relief Australia
REFRESH-INTERVAL;VALUE=DURATION:PT1H
X-Robots-Tag:noindex
X-PUBLISHED-TTL:PT1H
BEGIN:VTIMEZONE
TZID:Australia/Adelaide
BEGIN:STANDARD
TZOFFSETFROM:+1030
TZOFFSETTO:+0930
TZNAME:ACST
DTSTART:20240406T163000
END:STANDARD
BEGIN:DAYLIGHT
TZOFFSETFROM:+0930
TZOFFSETTO:+1030
TZNAME:ACDT
DTSTART:20241005T163000
END:DAYLIGHT
END:VTIMEZONE
BEGIN:VEVENT
DTSTART;VALUE=DATE:20240413
DTEND;VALUE=DATE:20240415
DTSTAMP:20260426T085125
CREATED:20231218T065605Z
LAST-MODIFIED:20240125T020849Z
UID:10000065-1712966400-1713139199@disasterreliefaus.org
SUMMARY:Chainsaw Trim & Crosscut\, Maintain Chainsaw and Pole Saw (DRT WA)
DESCRIPTION:Chainsaw Trim & Crosscut\, Maintain Chainsaw and Pole Saw\n \nTRAINING EVENT: FWPCOT2254 Maintain chainsaws & FWPCOT2273 Trim and cut felled trees\nCOURSE PROVIDER: Emergency Australia\nLOCATION: The Veteran Transition Centre\, 79 Hughes Road\, Jarrahdale WA\nDATE: Saturday 13th – Sunday 14th April 2024\nTIMINGS: 0800-1600 on both days\nONLINE PRE-COURSE REQUIREMENT: TBC
URL:https://disasterreliefaus.org/event/drt-wa-2/
LOCATION:DRRT WA
CATEGORIES:Training Events,Training WA
END:VEVENT
END:VCALENDAR