BEGIN:VCALENDAR
VERSION:2.0
PRODID:-//Disaster Relief Australia - ECPv6.10.1.1//NONSGML v1.0//EN
CALSCALE:GREGORIAN
METHOD:PUBLISH
X-ORIGINAL-URL:https://disasterreliefaus.org
X-WR-CALDESC:Events for Disaster Relief Australia
REFRESH-INTERVAL;VALUE=DURATION:PT1H
X-Robots-Tag:noindex
X-PUBLISHED-TTL:PT1H
BEGIN:VTIMEZONE
TZID:Australia/Adelaide
BEGIN:STANDARD
TZOFFSETFROM:+1030
TZOFFSETTO:+0930
TZNAME:ACST
DTSTART:20250405T163000
END:STANDARD
BEGIN:DAYLIGHT
TZOFFSETFROM:+0930
TZOFFSETTO:+1030
TZNAME:ACDT
DTSTART:20251004T163000
END:DAYLIGHT
END:VTIMEZONE
BEGIN:VEVENT
DTSTART;VALUE=DATE:20250607
DTEND;VALUE=DATE:20250609
DTSTAMP:20260424T222717
CREATED:20240528T010806Z
LAST-MODIFIED:20240528T010806Z
UID:10000128-1749254400-1749427199@disasterreliefaus.org
SUMMARY:4WD Certification (DRT WA)
DESCRIPTION:4WD Certification:\n– Operate four wheel drive vehicle on unsealed roads – FWPCOT3325\n– Recover four wheel drive vehicle – FWPCOT3326\nTRAINING EVENT: FWPCOT3325 Operate four wheel drive vehicle on unsealed roads FWPCOT3326 Recover four wheel drive vehicleCOURSE PROVIDER: Emergency AustraliaLOCATION: Geraldton (TBC)DATE:  Saturday 7th – Sunday 8th June 2025TIMINGS: 0900 – 1600 Both DaysONLINE PRE-COURSE REQUIREMENT: = 4 hours Approx.MUSTER STATUS REQUIRED: Engagement Ready or Deployment Read
URL:https://disasterreliefaus.org/event/4wd-certification-drt-wa-2/
LOCATION:DRRT WA
CATEGORIES:Training Events,Training WA
END:VEVENT
END:VCALENDAR