BEGIN:VCALENDAR
VERSION:2.0
PRODID:-//Disaster Relief Australia - ECPv6.10.1.1//NONSGML v1.0//EN
CALSCALE:GREGORIAN
METHOD:PUBLISH
X-WR-CALNAME:Disaster Relief Australia
X-ORIGINAL-URL:https://disasterreliefaus.org
X-WR-CALDESC:Events for Disaster Relief Australia
REFRESH-INTERVAL;VALUE=DURATION:PT1H
X-Robots-Tag:noindex
X-PUBLISHED-TTL:PT1H
BEGIN:VTIMEZONE
TZID:Australia/Adelaide
BEGIN:STANDARD
TZOFFSETFROM:+1030
TZOFFSETTO:+0930
TZNAME:ACST
DTSTART:20250405T163000
END:STANDARD
BEGIN:DAYLIGHT
TZOFFSETFROM:+0930
TZOFFSETTO:+1030
TZNAME:ACDT
DTSTART:20251004T163000
END:DAYLIGHT
END:VTIMEZONE
BEGIN:VEVENT
DTSTART;VALUE=DATE:20250201
DTEND;VALUE=DATE:20250202
DTSTAMP:20260422T033806
CREATED:20240528T223614Z
LAST-MODIFIED:20250117T014601Z
UID:10000139-1738368000-1738454399@disasterreliefaus.org
SUMMARY:Advanced First Aid (DRRT NSW STH)
DESCRIPTION:DRRT NSW South – Advanced First Aid – Saturday 1st February 2025\n\n\n\n\n\nTRAINING EVENT: HLTAID014 – Provide Advanced First Aid\nCOURSE PROVIDER: Emergency Australia\nLOCATION: City of Newcastle RSL sub-Branch48 Baker Street MAYFIELD\nDATE: Saturday 1st February 2025\nTIMINGS: First Aid: 0800 – 1600\nONLINE PRE-COURSE REQUIREMENT: = Approx. 7 Hours\nMUSTER STATUS REQUIRED: Engagement Ready or Deployment Ready
URL:https://disasterreliefaus.org/event/advanced-first-aid-drt-nsw-sth-2/
LOCATION:DRRT NSW STH
CATEGORIES:Training NSW STH
ATTACH;FMTTYPE=image/jpeg:https://disasterreliefaus.org/wp-content/uploads/2024/05/First-Aid-CPR-228x300-1.jpg
END:VEVENT
BEGIN:VEVENT
DTSTART;VALUE=DATE:20250207
DTEND;VALUE=DATE:20250208
DTSTAMP:20260422T033806
CREATED:20240528T223915Z
LAST-MODIFIED:20250117T011712Z
UID:10000084-1738886400-1738972799@disasterreliefaus.org
SUMMARY:Advanced First Aid (DRRT ACT)
DESCRIPTION:DRRT ACT – Advanced First Aid – Friday 7th February 2025\n\n\n\n\n\nTRAINING EVENT: HLTAID014 – Provide Advanced First Aid\nCOURSE PROVIDER: Emergency Australia\nLOCATION: Canberra Services Club\, 51 Blackall Street\, Barton\nDATE: Friday 7th February 2025\nTIMINGS: First Aid: 0800 – 1600\nONLINE PRE-COURSE REQUIREMENT: = Approx. 7 Hours\nMUSTER STATUS REQUIRED: Engagement Ready or Deployment Ready
URL:https://disasterreliefaus.org/event/advanced-first-aid-drt-act/
LOCATION:DRRT ACT
CATEGORIES:Training ACT,Training Events
ATTACH;FMTTYPE=image/jpeg:https://disasterreliefaus.org/wp-content/uploads/2023/11/First-Aid.jpg
END:VEVENT
BEGIN:VEVENT
DTSTART;VALUE=DATE:20250208
DTEND;VALUE=DATE:20250209
DTSTAMP:20260422T033806
CREATED:20240528T223906Z
LAST-MODIFIED:20250116T025205Z
UID:10000101-1738972800-1739059199@disasterreliefaus.org
SUMMARY:First Aid & CPR (DRRT NSW NTH)
DESCRIPTION:DRRT NSW NTH- Provide First Aid & CPR – Saturday 8th February 2025\n\n\n\nTRAINING EVENT: HLTAID011 – Provide First Aid and HLTAID009 – Provide cardiopulmonary resuscitation\nCOURSE PROVIDER: Emergency Australia\nLOCATION: Tamworth region\nDATE: Saturday 8th February 2025\nTIMINGS: First Aid: 0800 – 1600 – CPR Only: 0800 – 1100 (Couple hours only)\nONLINE PRE-COURSE REQUIREMENT: = First Aid = 4 hours Approx. – CPR = 1.5 hours Approx.\nMUSTER STATUS REQUIRED: Engagement Ready or Deployment Ready
URL:https://disasterreliefaus.org/event/first-aid-cpr-drt-nsw-nth-2/
LOCATION:DRRT NSW NTH
CATEGORIES:Training Events,Training NSW NTH
ATTACH;FMTTYPE=image/jpeg:https://disasterreliefaus.org/wp-content/uploads/2023/11/First-Aid-CPR-scaled.jpg
END:VEVENT
BEGIN:VEVENT
DTSTART;VALUE=DATE:20250214
DTEND;VALUE=DATE:20250215
DTSTAMP:20260422T033806
CREATED:20240816T022849Z
LAST-MODIFIED:20241024T002125Z
UID:10000245-1739491200-1739577599@disasterreliefaus.org
SUMMARY:Advanced First Aid (DRT WA)
DESCRIPTION:Advanced First Aid:\nProvide Advanced First Aid – HLTAID014\nTRAINING EVENT: HLTAID014 – Provide Advanced First Aid COURSE PROVIDER: Emergency Australia LOCATION: Geraldton (TBC)DATE:  Friday 14th February 2025TIMINGS: First Aid: 0800 – 1600ONLINE PRE-COURSE REQUIREMENT: = Approx. 7 HoursMUSTER STATUS REQUIRED: Engagement Ready or Deployment Ready
URL:https://disasterreliefaus.org/event/advanced-first-aid-drt-wa/
LOCATION:DRRT WA
CATEGORIES:Training Events,Training WA
END:VEVENT
BEGIN:VEVENT
DTSTART;TZID=Australia/Adelaide:20250215T090000
DTEND;TZID=Australia/Adelaide:20250216T160000
DTSTAMP:20260422T033806
CREATED:20240528T004402Z
LAST-MODIFIED:20241024T011852Z
UID:10000118-1739610000-1739721600@disasterreliefaus.org
SUMMARY:Remote First Aid (DRT WA)
DESCRIPTION:Remote First Aid:\nProvide First Aid in remote or isolated site – HLTAID013\nCOURSE PROVIDER: Emergency AustraliaLOCATION: Geraldton (TBC)DATE: Saturday 15th February – Sunday 16th February 2025 TIMINGS: First Aid: 0800 – 1600ONLINE PRE-COURSE REQUIREMENT: = Approx. 6 HoursMUSTER STATUS REQUIRED: Engagement Ready or Deployment Ready
URL:https://disasterreliefaus.org/event/remote-first-aid-drt-wa-2/
LOCATION:DRRT WA
CATEGORIES:Training Events,Training WA
END:VEVENT
BEGIN:VEVENT
DTSTART;VALUE=DATE:20250222
DTEND;VALUE=DATE:20250223
DTSTAMP:20260422T033806
CREATED:20240528T004926Z
LAST-MODIFIED:20250120T232728Z
UID:10000120-1740182400-1740268799@disasterreliefaus.org
SUMMARY:Operational Skills Training: (DRRT WA)
DESCRIPTION:Operational Skills Training:\n\n \n\n\nTRAINING EVENT: Operational Skills Training\nCOURSE PROVIDER: Internal Disaster Relief and Recovery Team\nLOCATION: 1 Gladstone Street\, Perth\nDATE:  Saturday 22nd February 2025\nTIMINGS: 0900 – 1600\nMUSTER STATUS REQUIRED: Engagement Ready or Deployment Ready
URL:https://disasterreliefaus.org/event/operational-skills-training-drt-wa-2/
LOCATION:DRRT WA
CATEGORIES:Training Event WA,Training Events,Training WA
END:VEVENT
BEGIN:VEVENT
DTSTART;VALUE=DATE:20250222
DTEND;VALUE=DATE:20250223
DTSTAMP:20260422T033806
CREATED:20240529T022507Z
LAST-MODIFIED:20250204T203244Z
UID:10000154-1740182400-1740268799@disasterreliefaus.org
SUMMARY:First Aid & CPR (DRRT QLD STH)
DESCRIPTION:First Aid & CPR\n\n \n\n\n\n\nTRAINING EVENT: HLTAID011 – Provide First Aid and HLTAID009 – Provide cardiopulmonary resuscitation\nCOURSE PROVIDER: Emergency Australia\nLOCATION:  DRA National Operations Centre – 3A / 423 Nudgee Road\, Hendra\, QLD\, 4011\nDATE:  Saturday\, 22nd February 2025\nTIMINGS: First Aid: 0800 – 1600 – CPR Only: 0800 – 1100 (Couple hours only)\nONLINE PRE-COURSE REQUIREMENT: = First Aid = 4 hours Approx. – CPR = 1.5 hours Approx.\nMUSTER STATUS REQUIRED: Engagement Ready or Deployment Ready
URL:https://disasterreliefaus.org/event/first-aid-cpr-drt-qld-sth/
LOCATION:DRRT QLD STH
CATEGORIES:Training Events,Training QLD STH
END:VEVENT
END:VCALENDAR