BEGIN:VCALENDAR
VERSION:2.0
PRODID:-//Disaster Relief Australia - ECPv6.10.1.1//NONSGML v1.0//EN
CALSCALE:GREGORIAN
METHOD:PUBLISH
X-WR-CALNAME:Disaster Relief Australia
X-ORIGINAL-URL:https://disasterreliefaus.org
X-WR-CALDESC:Events for Disaster Relief Australia
REFRESH-INTERVAL;VALUE=DURATION:PT1H
X-Robots-Tag:noindex
X-PUBLISHED-TTL:PT1H
BEGIN:VTIMEZONE
TZID:Australia/Adelaide
BEGIN:STANDARD
TZOFFSETFROM:+1030
TZOFFSETTO:+0930
TZNAME:ACST
DTSTART:20250405T163000
END:STANDARD
BEGIN:DAYLIGHT
TZOFFSETFROM:+0930
TZOFFSETTO:+1030
TZNAME:ACDT
DTSTART:20251004T163000
END:DAYLIGHT
END:VTIMEZONE
BEGIN:VEVENT
DTSTART;VALUE=DATE:20250503
DTEND;VALUE=DATE:20250505
DTSTAMP:20260421T235206
CREATED:20240531T024847Z
LAST-MODIFIED:20250306T221317Z
UID:10000202-1746230400-1746403199@disasterreliefaus.org
SUMMARY:Remote First Aid (DRT SA)
DESCRIPTION:Remote First Aid:\nProvide First Aid in remote or isolated site – HLTAID013\n\n \n\n\nCOURSE PROVIDER: Emergency Australia\nLOCATION: Anstey Hill Recreation Park\nDATE: Saturday 3rd – Sunday 4th May 2025\nTIMINGS: 0800 – 1600\nONLINE PRE-COURSE REQUIREMENT: = Approx. 6 Hours\nMUSTER STATUS REQUIRED: Engagement Ready or Deployment Ready
URL:https://disasterreliefaus.org/event/remote-first-aid-drt-sa/
LOCATION:DRRT SA
CATEGORIES:Training Events,Training SA
END:VEVENT
BEGIN:VEVENT
DTSTART;VALUE=DATE:20250515
DTEND;VALUE=DATE:20250517
DTSTAMP:20260421T235206
CREATED:20240620T005624Z
LAST-MODIFIED:20250117T001556Z
UID:10000218-1747267200-1747439999@disasterreliefaus.org
SUMMARY:Remote First Aid (DRRT TAS)
DESCRIPTION:DRRT TAS – Remote First Aid – Thursday 15th and Friday 16th May 2025 \nTRAINING EVENT: HLTAID013 – Provide First Aid in remote or isolated site\nCOURSE PROVIDER: Emergency Australia\nLOCATION: Northwest Tasmania\nDATE: Thursday 15th and Friday 16th May 2025\nTIMINGS: 0800 – 1600 (Both days)\nONLINE PRE-COURSE REQUIREMENT: = Approx. 6 Hours\nMUSTER STATUS REQUIRED: Engagement Ready or Deployment Ready
URL:https://disasterreliefaus.org/event/remote-first-aid-drt-tas/
LOCATION:DRRT TAS
CATEGORIES:Training Events,Training TAS
ATTACH;FMTTYPE=image/jpeg:https://disasterreliefaus.org/wp-content/uploads/2023/11/First-Aid.jpg
END:VEVENT
BEGIN:VEVENT
DTSTART;VALUE=DATE:20250524
DTEND;VALUE=DATE:20250525
DTSTAMP:20260421T235206
CREATED:20240530T001827Z
LAST-MODIFIED:20250307T002014Z
UID:10000181-1748044800-1748131199@disasterreliefaus.org
SUMMARY:First Aid & CPR (DRRT QLD NTH)
DESCRIPTION:First Aid & CPR:\n– Provide cardiopulmonary resuscitation – HLTAID009\n– Provide first aid – HLTAID011\n\n \n\n\nTRAINING EVENT: HLTAID011 – Provide First Aid and HLTAID009 – Provide cardiopulmonary resuscitation\nCOURSE PROVIDER: Emergency Australia\nLOCATION: Townsville RSL\nDATE: Saturday 24th May 2025\nTIMINGS: First Aid: 0800 – 1600 – CPR Only: 0800 – 1100 (Couple hours only)\nONLINE PRE-COURSE REQUIREMENT: = First Aid = 4 hours Approx. – CPR = 1.5 hours Approx.\nMUSTER STATUS REQUIRED: Engagement Ready or Deployment Ready
URL:https://disasterreliefaus.org/event/first-aid-cpr-drt-qld-nth-3/
LOCATION:DRRT QLD NTH
CATEGORIES:Training Events,Training QLD NTH
END:VEVENT
BEGIN:VEVENT
DTSTART;VALUE=DATE:20250524
DTEND;VALUE=DATE:20250525
DTSTAMP:20260421T235206
CREATED:20240828T063535Z
LAST-MODIFIED:20250324T011757Z
UID:10000246-1748044800-1748131199@disasterreliefaus.org
SUMMARY:Advanced First Aid (DRRT NSW NTH)
DESCRIPTION:DRRT NSW North – Advanced First Aid – Saturday 24th May 2025\n\n\n\n\n\nTRAINING EVENT: HLTAID014 – Provide Advanced First Aid\nCOURSE PROVIDER: Emergency Australia\nLOCATION: Southwest Rocks NSW 2431\nDATE: Saturday 24th May 2025\nTIMINGS: First Aid: 0800 – 1600\nONLINE PRE-COURSE REQUIREMENT: = Approx. 7 Hours\nMUSTER STATUS REQUIRED: Engagement Ready or Deployment Ready
URL:https://disasterreliefaus.org/event/advanced-first-aid-drt-nsw-nth-4/
LOCATION:DRRT NSW NTH
CATEGORIES:Training Events,Training NSW NTH
ATTACH;FMTTYPE=image/jpeg:https://disasterreliefaus.org/wp-content/uploads/2024/05/First-Aid-CPR-228x300-1.jpg
END:VEVENT
BEGIN:VEVENT
DTSTART;VALUE=DATE:20250530
DTEND;VALUE=DATE:20250531
DTSTAMP:20260421T235206
CREATED:20240528T223709Z
LAST-MODIFIED:20250117T005402Z
UID:10000093-1748563200-1748649599@disasterreliefaus.org
SUMMARY:First Aid & CPR (DRRT ACT)
DESCRIPTION:DRRT ACT – First Aid & CPR– Saturday\, 30th May 2025 \nTRAINING EVENT: HLTAID011 – Provide First Aid and HLTAID009 – Provide cardiopulmonary resuscitation\nCOURSE PROVIDER: Emergency Australia\nLOCATION: Canberra Services Club\, 51 Blackall Street\, Barton.\nDATE: Saturday\, 30th May 2025\nTIMINGS: First Aid: 0800 – 1600 – CPR Only: 0800 – 1100 (Couple hours only)\nONLINE PRE-COURSE REQUIREMENT: = First Aid = 4 hours Approx. – CPR = 1.5 hours Approx.\nMUSTER STATUS REQUIRED: Engagement Ready or Deployment Ready
URL:https://disasterreliefaus.org/event/first-aid-cpr-drt-act-2/
LOCATION:DRRT ACT
CATEGORIES:Training ACT,Training Events
ATTACH;FMTTYPE=image/jpeg:https://disasterreliefaus.org/wp-content/uploads/2023/11/First-Aid-CPR-scaled.jpg
END:VEVENT
BEGIN:VEVENT
DTSTART;VALUE=DATE:20250531
DTEND;VALUE=DATE:20250602
DTSTAMP:20260421T235206
CREATED:20240529T045458Z
LAST-MODIFIED:20250307T001916Z
UID:10000167-1748649600-1748822399@disasterreliefaus.org
SUMMARY:Remote First Aid (DRRT NT)
DESCRIPTION:Remote First Aid:\nProvide First Aid in remote or isolated site – HLTAID013\n\n \n\n\nCOURSE PROVIDER: Emergency Australia\nLOCATION: (TBC)\nDATE: Saturday 31st May – Sunday 1st June 2025\nTIMINGS: 0800 – 1600\nONLINE PRE-COURSE REQUIREMENT: = Approx. 6 Hours\nMUSTER STATUS REQUIRED: Engagement Ready or Deployment Ready
URL:https://disasterreliefaus.org/event/remote-first-aid-drt-nt/
LOCATION:DRRT NT
CATEGORIES:Training Events,Training NT
END:VEVENT
END:VCALENDAR