BEGIN:VCALENDAR
VERSION:2.0
PRODID:-//Disaster Relief Australia - ECPv6.10.1.1//NONSGML v1.0//EN
CALSCALE:GREGORIAN
METHOD:PUBLISH
X-ORIGINAL-URL:https://disasterreliefaus.org
X-WR-CALDESC:Events for Disaster Relief Australia
REFRESH-INTERVAL;VALUE=DURATION:PT1H
X-Robots-Tag:noindex
X-PUBLISHED-TTL:PT1H
BEGIN:VTIMEZONE
TZID:Australia/Adelaide
BEGIN:STANDARD
TZOFFSETFROM:+1030
TZOFFSETTO:+0930
TZNAME:ACST
DTSTART:20250405T163000
END:STANDARD
BEGIN:DAYLIGHT
TZOFFSETFROM:+0930
TZOFFSETTO:+1030
TZNAME:ACDT
DTSTART:20251004T163000
END:DAYLIGHT
END:VTIMEZONE
BEGIN:VEVENT
DTSTART;VALUE=DATE:20250531
DTEND;VALUE=DATE:20250602
DTSTAMP:20260422T010852
CREATED:20240529T045458Z
LAST-MODIFIED:20250307T001916Z
UID:10000167-1748649600-1748822399@disasterreliefaus.org
SUMMARY:Remote First Aid (DRRT NT)
DESCRIPTION:Remote First Aid:\nProvide First Aid in remote or isolated site – HLTAID013\n\n \n\n\nCOURSE PROVIDER: Emergency Australia\nLOCATION: (TBC)\nDATE: Saturday 31st May – Sunday 1st June 2025\nTIMINGS: 0800 – 1600\nONLINE PRE-COURSE REQUIREMENT: = Approx. 6 Hours\nMUSTER STATUS REQUIRED: Engagement Ready or Deployment Ready
URL:https://disasterreliefaus.org/event/remote-first-aid-drt-nt/
LOCATION:DRRT NT
CATEGORIES:Training Events,Training NT
END:VEVENT
BEGIN:VEVENT
DTSTART;VALUE=DATE:20250601
DTEND;VALUE=DATE:20250602
DTSTAMP:20260422T010852
CREATED:20240530T001537Z
LAST-MODIFIED:20250120T233905Z
UID:10000179-1748736000-1748822399@disasterreliefaus.org
SUMMARY:Operational Skills Training: (DRRT QLD NTH)
DESCRIPTION:Operational Skills Training:\n\n \n\n\nTRAINING EVENT: Operational Skills Training\nCOURSE PROVIDER: Internal Disaster Relief and Recovery Team\nLOCATION: Low 4×4 Meeraba 4870\nDATE: Sunday 01st June 2025\nTIMINGS: 0900 – 1600 Both Days\nMUSTER STATUS REQUIRED: Engagement Ready or Deployment Ready
URL:https://disasterreliefaus.org/event/operational-skills-training-drt-qld-nth-5/
LOCATION:DRRT QLD NTH
CATEGORIES:Training Events,Training QLD NTH
END:VEVENT
BEGIN:VEVENT
DTSTART;VALUE=DATE:20250607
DTEND;VALUE=DATE:20250608
DTSTAMP:20260422T010852
CREATED:20240531T024206Z
LAST-MODIFIED:20250307T001852Z
UID:10000200-1749254400-1749340799@disasterreliefaus.org
SUMMARY:First Aid & CPR (DRRT SA)
DESCRIPTION:First Aid & CPR:\n– Provide cardiopulmonary resuscitation – HLTAID009\n– Provide first aid – HLTAID011\n\n \n\n\nTRAINING EVENT: HLTAID011 – Provide First Aid and HLTAID009 – Provide cardiopulmonary resuscitation\nCOURSE PROVIDER: Emergency Australia\nLOCATION: Adelaide Office – 10 Greenhill Rd\, Wayville\nDATE: Saturday 7th June 2025\nTIMINGS: First Aid: 0800 – 1600 – CPR Only: 0800 – 1100 (Couple hours only)\nONLINE PRE-COURSE REQUIREMENT: = First Aid = 4 hours Approx. – CPR = 1.5 hours Approx.\nMUSTER STATUS REQUIRED: Engagement Ready or Deployment Ready
URL:https://disasterreliefaus.org/event/first-aid-cpr-drt-sa-2/
LOCATION:DRRT SA
CATEGORIES:Training Events,Training SA
END:VEVENT
BEGIN:VEVENT
DTSTART;VALUE=DATE:20250615
DTEND;VALUE=DATE:20250617
DTSTAMP:20260422T010852
CREATED:20240530T001424Z
LAST-MODIFIED:20250409T014922Z
UID:10000178-1749945600-1750118399@disasterreliefaus.org
SUMMARY:Operational Skills Training: (DRRT QLD NTH)
DESCRIPTION:Operational Skills Training:\n\n \n\n\nTRAINING EVENT: Operational Skills Training\nCOURSE PROVIDER: Internal Disaster Relief and Recovery Team\nLOCATION: Townsville (TBC)\nDATE: Saturday 14th – Sunday 15th June 2025\nTIMINGS: 0800 – 1600 Both Days\nMUSTER STATUS REQUIRED: Engagement Ready or Deployment Ready
URL:https://disasterreliefaus.org/event/operational-skills-training-drt-qld-nth-4/
LOCATION:DRRT QLD NTH
CATEGORIES:Training Events,Training QLD NTH
END:VEVENT
BEGIN:VEVENT
DTSTART;VALUE=DATE:20250628
DTEND;VALUE=DATE:20250629
DTSTAMP:20260422T010852
CREATED:20240828T225927Z
LAST-MODIFIED:20250116T013104Z
UID:10000247-1751068800-1751155199@disasterreliefaus.org
SUMMARY:First Aid and CPR (DRRT NSW STH)
DESCRIPTION:DRRT NSW South – Provide First Aid & CPR Saturday day 28th June 2025\n\n\n\nTRAINING EVENT: HLTAID011 – Provide First Aid and HLTAID009 – Provide cardiopulmonary resuscitation\nCOURSE PROVIDER: Emergency Australia\nLOCATION: Riverina Veteran Wellbeing Centre\, 240 Baylis Street\nDATE: Friday\, 28th June 2025\nTIMINGS: First Aid: 0800 – 1600 – CPR Only: 0800 – 1100 (Couple hours only)\nONLINE PRE-COURSE REQUIREMENT: = First Aid = 4 hours Approx. – CPR = 1.5 hours Approx.\nMUSTER STATUS REQUIRED: Engagement Ready or Deployment Ready
URL:https://disasterreliefaus.org/event/first-aid-cpr-drt-nsw-sth-5/
LOCATION:DRRT NSW STH
CATEGORIES:Training Events,Training NSW STH
ATTACH;FMTTYPE=image/jpeg:https://disasterreliefaus.org/wp-content/uploads/2023/11/CPR.jpg
END:VEVENT
BEGIN:VEVENT
DTSTART;VALUE=DATE:20250628
DTEND;VALUE=DATE:20250630
DTSTAMP:20260422T010852
CREATED:20240528T005223Z
LAST-MODIFIED:20240528T005223Z
UID:10000122-1751068800-1751241599@disasterreliefaus.org
SUMMARY:Operational Skills Training: (DRT WA)
DESCRIPTION:Operational Skills Training:\n\n \n\n\nTRAINING EVENT: Operational Skills Training\nCOURSE PROVIDER: Internal Disaster Relief Team\nLOCATION: Geraldton (TBC)\nDATE:  Saturday 28th June – Sunday 29th June 2025\nTIMINGS: 0900 – 1600 Both Days\nMUSTER STATUS REQUIRED: Engagement Ready or Deployment Ready
URL:https://disasterreliefaus.org/event/operational-skills-training-drt-wa-4/
LOCATION:DRRT WA
CATEGORIES:Training Event WA,Training Events,Training WA
END:VEVENT
BEGIN:VEVENT
DTSTART;VALUE=DATE:20250628
DTEND;VALUE=DATE:20250630
DTSTAMP:20260422T010852
CREATED:20240529T013848Z
LAST-MODIFIED:20250313T225659Z
UID:10000148-1751068800-1751241599@disasterreliefaus.org
SUMMARY:Operational Skills Training: (DRRT QLD STH)
DESCRIPTION:Operational Skills Training:\n\n \n\n\nTRAINING EVENT: Operational Skills Training\nCOURSE PROVIDER: Internal Disaster Relief and Recovery Team\nLOCATION: TBC\nDATE:  Saturday-Sunday\, 28th-29th June 2025\nTIMINGS: 0900 – 1600 Both Days\nMUSTER STATUS REQUIRED: Engagement Ready or Deployment Ready
URL:https://disasterreliefaus.org/event/operational-skills-training-drt-qld-sth-4/
LOCATION:DRRT QLD STH
CATEGORIES:Training Events,Training QLD STH
END:VEVENT
END:VCALENDAR