BEGIN:VCALENDAR
VERSION:2.0
PRODID:-//Disaster Relief Australia - ECPv6.10.1.1//NONSGML v1.0//EN
CALSCALE:GREGORIAN
METHOD:PUBLISH
X-WR-CALNAME:Disaster Relief Australia
X-ORIGINAL-URL:https://disasterreliefaus.org
X-WR-CALDESC:Events for Disaster Relief Australia
REFRESH-INTERVAL;VALUE=DURATION:PT1H
X-Robots-Tag:noindex
X-PUBLISHED-TTL:PT1H
BEGIN:VTIMEZONE
TZID:Australia/Adelaide
BEGIN:STANDARD
TZOFFSETFROM:+1030
TZOFFSETTO:+0930
TZNAME:ACST
DTSTART:20250405T163000
END:STANDARD
BEGIN:DAYLIGHT
TZOFFSETFROM:+0930
TZOFFSETTO:+1030
TZNAME:ACDT
DTSTART:20251004T163000
END:DAYLIGHT
END:VTIMEZONE
BEGIN:VEVENT
DTSTART;VALUE=DATE:20250207
DTEND;VALUE=DATE:20250208
DTSTAMP:20260426T103523
CREATED:20240528T223915Z
LAST-MODIFIED:20250117T011712Z
UID:10000084-1738886400-1738972799@disasterreliefaus.org
SUMMARY:Advanced First Aid (DRRT ACT)
DESCRIPTION:DRRT ACT – Advanced First Aid – Friday 7th February 2025\n\n\n\n\n\nTRAINING EVENT: HLTAID014 – Provide Advanced First Aid\nCOURSE PROVIDER: Emergency Australia\nLOCATION: Canberra Services Club\, 51 Blackall Street\, Barton\nDATE: Friday 7th February 2025\nTIMINGS: First Aid: 0800 – 1600\nONLINE PRE-COURSE REQUIREMENT: = Approx. 7 Hours\nMUSTER STATUS REQUIRED: Engagement Ready or Deployment Ready
URL:https://disasterreliefaus.org/event/advanced-first-aid-drt-act/
LOCATION:DRRT ACT
CATEGORIES:Training ACT,Training Events
ATTACH;FMTTYPE=image/jpeg:https://disasterreliefaus.org/wp-content/uploads/2023/11/First-Aid.jpg
END:VEVENT
END:VCALENDAR