BEGIN:VCALENDAR
VERSION:2.0
PRODID:-//Disaster Relief Australia - ECPv6.10.1.1//NONSGML v1.0//EN
CALSCALE:GREGORIAN
METHOD:PUBLISH
X-ORIGINAL-URL:https://disasterreliefaus.org
X-WR-CALDESC:Events for Disaster Relief Australia
REFRESH-INTERVAL;VALUE=DURATION:PT1H
X-Robots-Tag:noindex
X-PUBLISHED-TTL:PT1H
BEGIN:VTIMEZONE
TZID:Australia/Adelaide
BEGIN:STANDARD
TZOFFSETFROM:+1030
TZOFFSETTO:+0930
TZNAME:ACST
DTSTART:20250405T163000
END:STANDARD
BEGIN:DAYLIGHT
TZOFFSETFROM:+0930
TZOFFSETTO:+1030
TZNAME:ACDT
DTSTART:20251004T163000
END:DAYLIGHT
END:VTIMEZONE
BEGIN:VEVENT
DTSTART;VALUE=DATE:20250214
DTEND;VALUE=DATE:20250215
DTSTAMP:20260422T115643
CREATED:20240816T022849Z
LAST-MODIFIED:20241024T002125Z
UID:10000245-1739491200-1739577599@disasterreliefaus.org
SUMMARY:Advanced First Aid (DRT WA)
DESCRIPTION:Advanced First Aid:\nProvide Advanced First Aid – HLTAID014\nTRAINING EVENT: HLTAID014 – Provide Advanced First Aid COURSE PROVIDER: Emergency Australia LOCATION: Geraldton (TBC)DATE:  Friday 14th February 2025TIMINGS: First Aid: 0800 – 1600ONLINE PRE-COURSE REQUIREMENT: = Approx. 7 HoursMUSTER STATUS REQUIRED: Engagement Ready or Deployment Ready
URL:https://disasterreliefaus.org/event/advanced-first-aid-drt-wa/
LOCATION:DRRT WA
CATEGORIES:Training Events,Training WA
END:VEVENT
END:VCALENDAR