BEGIN:VCALENDAR
VERSION:2.0
PRODID:-//Disaster Relief Australia - ECPv6.10.1.1//NONSGML v1.0//EN
CALSCALE:GREGORIAN
METHOD:PUBLISH
X-ORIGINAL-URL:https://disasterreliefaus.org
X-WR-CALDESC:Events for Disaster Relief Australia
REFRESH-INTERVAL;VALUE=DURATION:PT1H
X-Robots-Tag:noindex
X-PUBLISHED-TTL:PT1H
BEGIN:VTIMEZONE
TZID:Australia/Adelaide
BEGIN:STANDARD
TZOFFSETFROM:+1030
TZOFFSETTO:+0930
TZNAME:ACST
DTSTART:20250405T163000
END:STANDARD
BEGIN:DAYLIGHT
TZOFFSETFROM:+0930
TZOFFSETTO:+1030
TZNAME:ACDT
DTSTART:20251004T163000
END:DAYLIGHT
END:VTIMEZONE
BEGIN:VEVENT
DTSTART;VALUE=DATE:20250301
DTEND;VALUE=DATE:20250303
DTSTAMP:20260422T054814
CREATED:20240528T223840Z
LAST-MODIFIED:20250117T011235Z
UID:10000092-1740787200-1740959999@disasterreliefaus.org
SUMMARY:Remote First Aid (DRRT ACT)
DESCRIPTION:DRRT ACT – Remote First Aid – Saturday 1st – Sunday 2nd March 2025 \nTRAINING EVENT: HLTAID013 – Provide First Aid in remote or isolated site\nCOURSE PROVIDER: Emergency Australia\nLOCATION: Canberra Services Club\, 51 Blackall Street\, Barton.\nDATE: Saturday 1st – Sunday 2nd March 2025\nTIMINGS: 0800 – 1600 (Both days)\nONLINE PRE-COURSE REQUIREMENT: = Approx. 6 Hours\nMUSTER STATUS REQUIRED: Engagement Ready or Deployment Ready
URL:https://disasterreliefaus.org/event/remote-first-aid-drt-act/
LOCATION:DRRT ACT
CATEGORIES:Training Events,Training NSW NTH
ATTACH;FMTTYPE=image/jpeg:https://disasterreliefaus.org/wp-content/uploads/2023/11/First-Aid.jpg
END:VEVENT
END:VCALENDAR