BEGIN:VCALENDAR
VERSION:2.0
PRODID:-//Disaster Relief Australia - ECPv6.10.1.1//NONSGML v1.0//EN
CALSCALE:GREGORIAN
METHOD:PUBLISH
X-WR-CALNAME:Disaster Relief Australia
X-ORIGINAL-URL:https://disasterreliefaus.org
X-WR-CALDESC:Events for Disaster Relief Australia
REFRESH-INTERVAL;VALUE=DURATION:PT1H
X-Robots-Tag:noindex
X-PUBLISHED-TTL:PT1H
BEGIN:VTIMEZONE
TZID:Australia/Adelaide
BEGIN:STANDARD
TZOFFSETFROM:+1030
TZOFFSETTO:+0930
TZNAME:ACST
DTSTART:20250405T163000
END:STANDARD
BEGIN:DAYLIGHT
TZOFFSETFROM:+0930
TZOFFSETTO:+1030
TZNAME:ACDT
DTSTART:20251004T163000
END:DAYLIGHT
END:VTIMEZONE
BEGIN:VEVENT
DTSTART;VALUE=DATE:20250308
DTEND;VALUE=DATE:20250310
DTSTAMP:20260422T083508
CREATED:20240529T013740Z
LAST-MODIFIED:20250204T202838Z
UID:10000147-1741392000-1741564799@disasterreliefaus.org
SUMMARY:Operational Skills Training: (DRRT QLD STH)
DESCRIPTION:Operational Skills Training:\n\n \n\n\nTRAINING EVENT: Operational Skills Training\nCOURSE PROVIDER: Internal Disaster Relief and Response Team\nLOCATION: 213-315 Plunkett Road\, Tambourine\nDATE:  Saturday-Sunday\, 8th-9th March 2025\nTIMINGS: 0900 – 1600 Both Days\nMUSTER STATUS REQUIRED: Engagement Ready or Deployment Ready
URL:https://disasterreliefaus.org/event/operational-skills-training-drt-qld-sth-3/
LOCATION:DRRT QLD STH
CATEGORIES:Training Events,Training QLD STH
END:VEVENT
END:VCALENDAR