BEGIN:VCALENDAR
VERSION:2.0
PRODID:-//Disaster Relief Australia - ECPv6.10.1.1//NONSGML v1.0//EN
CALSCALE:GREGORIAN
METHOD:PUBLISH
X-ORIGINAL-URL:https://disasterreliefaus.org
X-WR-CALDESC:Events for Disaster Relief Australia
REFRESH-INTERVAL;VALUE=DURATION:PT1H
X-Robots-Tag:noindex
X-PUBLISHED-TTL:PT1H
BEGIN:VTIMEZONE
TZID:Australia/Adelaide
BEGIN:STANDARD
TZOFFSETFROM:+1030
TZOFFSETTO:+0930
TZNAME:ACST
DTSTART:20250405T163000
END:STANDARD
BEGIN:DAYLIGHT
TZOFFSETFROM:+0930
TZOFFSETTO:+1030
TZNAME:ACDT
DTSTART:20251004T163000
END:DAYLIGHT
END:VTIMEZONE
BEGIN:VEVENT
DTSTART;VALUE=DATE:20250510
DTEND;VALUE=DATE:20250512
DTSTAMP:20260423T100307
CREATED:20240528T005812Z
LAST-MODIFIED:20250306T222234Z
UID:10000125-1746835200-1747007999@disasterreliefaus.org
SUMMARY:Chainsaw Trim & Crosscut\, Maintain Chainsaw and Pole Saw (DRRT WA)
DESCRIPTION:Chainsaw Trim & Crosscut\, Maintain Chainsaw and Pole Saw\n \n\nTRAINING EVENT: FWPCOT2254 Maintain chainsaws & FWPCOT2273 Trim and cut felled trees & FWPCOT3238 Trim tree using a Polesaw\nCOURSE PROVIDER: Emergency Australia\nLOCATION: Southwest Region (TBC)\nDATE:  Saturday 10th May – Sunday 11th May 2025\nTIMINGS: 0800 – 1600\nONLINE PRE-COURSE REQUIREMENT: = Approx. 9 Hours\nMUSTER STATUS REQUIRED: Engagement Ready or Deployment Ready
URL:https://disasterreliefaus.org/event/chainsaw-trim-crosscut-maintain-chainsaw-and-pole-saw-drt-wa-2/
LOCATION:DRRT WA
CATEGORIES:Training Events,Training WA
END:VEVENT
BEGIN:VEVENT
DTSTART;VALUE=DATE:20250517
DTEND;VALUE=DATE:20250519
DTSTAMP:20260423T100307
CREATED:20240729T222553Z
LAST-MODIFIED:20250212T053507Z
UID:10000230-1747440000-1747612799@disasterreliefaus.org
SUMMARY:Operational Skills Weekend: (DRRT VIC)
DESCRIPTION:Operational Skills Weekend:\nTRAINING EVENT: Operational Skills Weekend\nCOURSE PROVIDER: DRRT VIC\nLOCATION: Vic Goldfields Railway Muckleford Station – Muckleford Walmer Road\, Muckleford VIC 3451\nDATE: Saturday 17th – Sunday 18th May 2025\nTIMINGS: 0800 – 1600\, participants can select to attend one\, or both days\nMUSTER STATUS REQUIRED: Engagement Ready or Deployment Ready
URL:https://disasterreliefaus.org/event/operational-skills-weekend-drt-vic-2/
LOCATION:VEMI-153 waterfalls road Mount Macedon Victoria
CATEGORIES:Training Events,Training VIC
ATTACH;FMTTYPE=image/jpeg:https://disasterreliefaus.org/wp-content/uploads/2024/07/51730684069_acf3a88488_c.jpg
END:VEVENT
BEGIN:VEVENT
DTSTART;VALUE=DATE:20250517
DTEND;VALUE=DATE:20250519
DTSTAMP:20260423T100307
CREATED:20240829T225534Z
LAST-MODIFIED:20250116T022206Z
UID:10000249-1747440000-1747612799@disasterreliefaus.org
SUMMARY:Operational Skills Weekend: (DRRT NSW NTH)
DESCRIPTION:Operational Skills Weekend:\nTRAINING EVENT: Operational Skills Weekend\nCOURSE PROVIDER: DRRT NSW North\nLOCATION: Willawarrin\nDATE: Saturday 17th – Sunday 18th May 2025\nTIMINGS: 0800 – 1600\, participants can select to attend one\, or both days\nMUSTER STATUS REQUIRED: Engagement Ready or Deployment Ready
URL:https://disasterreliefaus.org/event/operational-skills-weekend-drt-nsw-nth/
LOCATION:DRRT NSW NTH
CATEGORIES:Training Events,Training NSW NTH
ATTACH;FMTTYPE=image/jpeg:https://disasterreliefaus.org/wp-content/uploads/2024/07/51730684069_acf3a88488_c.jpg
END:VEVENT
BEGIN:VEVENT
DTSTART;TZID=Australia/Adelaide:20250517T080000
DTEND;TZID=Australia/Adelaide:20250518T160000
DTSTAMP:20260423T100307
CREATED:20240729T051944Z
LAST-MODIFIED:20250117T005919Z
UID:10000221-1747468800-1747584000@disasterreliefaus.org
SUMMARY:Operational Skills Weekend: (DRRT ACT)
DESCRIPTION:Operational Skills Weekend:\nTRAINING EVENT: Operational Skills Weekend\nCOURSE PROVIDER: DRRT ACT\nLOCATION: Ingedene\, Thawa\nDATE: Saturday 17th – Sunday 18th May 2025\nTIMINGS: 0800 – 1600\, participants can select to attend one\, or both days\nMUSTER STATUS REQUIRED: Engagement Ready or Deployment Ready
URL:https://disasterreliefaus.org/event/operational-skills-weekend-drt-act/
LOCATION:DRRT ACT
CATEGORIES:Training ACT,Training Events
ATTACH;FMTTYPE=image/jpeg:https://disasterreliefaus.org/wp-content/uploads/2024/07/51730684069_acf3a88488_c.jpg
END:VEVENT
BEGIN:VEVENT
DTSTART;VALUE=DATE:20250531
DTEND;VALUE=DATE:20250602
DTSTAMP:20260423T100307
CREATED:20240729T223404Z
LAST-MODIFIED:20250128T000344Z
UID:10000233-1748649600-1748822399@disasterreliefaus.org
SUMMARY:Operational Skills Weekend: (DRRT TAS)
DESCRIPTION:Operational Skills Weekend:\nTRAINING EVENT: Operational Skills Weekend\nCOURSE PROVIDER: DRRT TAS\nLOCATION: Lions Club of Kings Meadow 18 Merion St Kings Meadow Launceston\nDATE: Saturday 31st May – Sunday 1st June 2025\nTIMINGS: 0800 – 1600\, participants can select to attend one\, or both days\nMUSTER STATUS REQUIRED: Engagement Ready or Deployment Ready
URL:https://disasterreliefaus.org/event/operational-skills-weekend-drt-tas-3/
LOCATION:DRRT TAS
CATEGORIES:Training Events,Training TAS
ATTACH;FMTTYPE=image/jpeg:https://disasterreliefaus.org/wp-content/uploads/2024/07/51730684069_acf3a88488_c.jpg
END:VEVENT
END:VCALENDAR